Workbook
Name APIKEY: 'General information'!$B$37
Name RegionsAirplanes1: Vars!$E$1:$E$39
Name RegionsAirplanes2: Vars!$F$1:$F$39
Name RegionsFood1: Vars!$G$1:$G$39
Name RegionsFood2: Vars!$H$1:$H$39
Name RegionsHouse1: Vars!$A$1:$A$39
Name RegionsHouse2: Vars!$B$1:$B$39
Name RegionsWeapons1: Vars!$C$1:$C$39
Name RegionsWeapons2: Vars!$D$1:$D$39

Sheet Countries
A1: name | B1: id | C1: bonus_frm | D1: bonus_wrm | E1: bonus_hrm | F1: bonus_arm | G1: bonus_food | H1: bonus_weapon | I1: bonus_house | J1: bonus_aircraft | K1: t_frm_income | L1: t_frm_import | M1: t_frm_vat | N1: t_wrm_income | O1: t_wrm_import | P1: t_wrm_vat | Q1: t_hrm_income | R1: t_hrm_import | S1: t_hrm_vat | T1: t_arm_income | U1: t_arm_import | V1: t_arm_vat | W1: t_food_income | X1: t_food_import | Y1: t_food_vat | Z1: t_weapon_income | AA1: t_weapon_import | AB1: t_weapon_vat | AC1: t_house_income | AD1: t_house_import | AE1: t_house_vat | AF1: t_aircraft_income | AG1: t_aircraft_import | AH1: t_aircraft_vat | AI1: t_movingticket_income | AJ1: t_movingticket_import | AK1: t_movingticket_vat | AL1: salary_average
A2: Albania | B2: 167 | C2: 0 | D2: 0 | E2: 0 | F2: 0 | G2: 0 | H2: 0 | I2: 0 | J2: 0 | K2: 0.01 | L2: 0.01 | M2: 0 | N2: 0.01 | O2: 0.01 | P2: 0 | Q2: 0.01 | R2: 0.01 | S2: 0 | T2: 0.01 | U2: 0.01 | V2: 0 | W2: 0.01 | X2: 0.01 | Y2: 0.01 | Z2: 0.01 | AA2: 0.01 | AB2: 0.01 | AC2: 0.01 | AD2: 0.01 | AE2: 0.01 | AF2: 0.01 | AG2: 0.01 | AH2: 0.01 | AI2: 0.01 | AJ2: 0.01 | AK2: 0.01 | AL2: 3953.91
A3: Argentina | B3: 27 | C3: 0.9 | D3: 0.3 | E3: 0 | F3: 0.65 | G3: 0.9 | H3: 0.3 | I3: 0 | J3: 0.65 | K3: 0.01 | L3: 0.01 | M3: 0 | N3: 0.01 | O3: 0.01 | P3: 0 | Q3: 0.01 | R3: 0.01 | S3: 0 | T3: 0.01 | U3: 0.01 | V3: 0 | W3: 0.01 | X3: 0.99 | Y3: 0.01 | Z3: 0.01 | AA3: 0.99 | AB3: 0.01 | AC3: 0.01 | AD3: 0.01 | AE3: 0.01 | AF3: 0.01 | AG3: 0.99 | AH3: 0.01 | AI3: 0.01 | AJ3: 0.01 | AK3: 0.01 | AL3: 4629.21
A4: Armenia | B4: 169 | C4: 0.1 | D4: 0.1 | E4: 0.24 | F4: 0.35 | G4: 0.1 | H4: 0.1 | I4: 0.24 | J4: 0.35 | K4: 0.01 | L4: 0.1 | M4: 0 | N4: 0.01 | O4: 0.01 | P4: 0 | Q4: 0.01 | R4: 0.01 | S4: 0 | T4: 0.01 | U4: 0.01 | V4: 0 | W4: 0.01 | X4: 0.01 | Y4: 0.01 | Z4: 0.01 | AA4: 0.01 | AB4: 0.01 | AC4: 0.01 | AD4: 0.01 | AE4: 0.01 | AF4: 0.01 | AG4: 0.01 | AH4: 0.01 | AI4: 0.01 | AJ4: 0.1 | AK4: 0.01 | AL4: 4597.59
A5: Australia | B5: 50 | C5: 1 | D5: 0 | E5: 0 | F5: 0 | G5: 1 | H5: 0 | I5: 0 | J5: 0 | K5: 0.01 | L5: 0.01 | M5: 0 | N5: 0.01 | O5: 0.01 | P5: 0 | Q5: 0.01 | R5: 0.08 | S5: 0 | T5: 0.01 | U5: 0.01 | V5: 0 | W5: 0.01 | X5: 0.08 | Y5: 0.01 | Z5: 0.01 | AA5: 0.08 | AB5: 0.01 | AC5: 0.01 | AD5: 0.49 | AE5: 0.01 | AF5: 0.01 | AG5: 0.49 | AH5: 0.01 | AI5: 0.01 | AJ5: 0.99 | AK5: 0.01 | AL5: 5186.22
A6: Austria | B6: 33 | C6: 0.22 | D6: 0 | E6: 0.45 | F6: 0 | G6: 0.22 | H6: 0 | I6: 0.45 | J6: 0 | K6: 0.01 | L6: 0.99 | M6: 0 | N6: 0.01 | O6: 0.5 | P6: 0 | Q6: 0.01 | R6: 0.01 | S6: 0 | T6: 0.01 | U6: 0.01 | V6: 0 | W6: 0.01 | X6: 0.2 | Y6: 0.01 | Z6: 0.01 | AA6: 0.01 | AB6: 0.01 | AC6: 0.01 | AD6: 0.2 | AE6: 0.01 | AF6: 0.01 | AG6: 0.01 | AH6: 0.01 | AI6: 0.01 | AJ6: 0.15 | AK6: 0.1 | AL6: 4868.93
A7: Belarus | B7: 83 | C7: 0.5 | D7: 0 | E7: 0 | F7: 0.45 | G7: 0.5 | H7: 0 | I7: 0 | J7: 0.45 | K7: 0.01 | L7: 0.01 | M7: 0 | N7: 0.01 | O7: 0.01 | P7: 0 | Q7: 0.01 | R7: 0.01 | S7: 0 | T7: 0.01 | U7: 0.01 | V7: 0 | W7: 0.01 | X7: 0.01 | Y7: 0.01 | Z7: 0.01 | AA7: 0.05 | AB7: 0.01 | AC7: 0.01 | AD7: 0.01 | AE7: 0.01 | AF7: 0.01 | AG7: 0.1 | AH7: 0.01 | AI7: 0.01 | AJ7: 0.01 | AK7: 0.01 | AL7: 4931.63
A8: Belgium | B8: 32 | C8: 0.25 | D8: 0.25 | E8: 0 | F8: 0.45 | G8: 0.25 | H8: 0.25 | I8: 0 | J8: 0.45 | K8: 0.01 | L8: 0.99 | M8: 0 | N8: 0.01 | O8: 0.99 | P8: 0 | Q8: 0.01 | R8: 0.02 | S8: 0 | T8: 0.01 | U8: 0.02 | V8: 0 | W8: 0.01 | X8: 0.01 | Y8: 0.01 | Z8: 0.01 | AA8: 0.99 | AB8: 0.01 | AC8: 0.01 | AD8: 0.01 | AE8: 0.01 | AF8: 0.01 | AG8: 0.03 | AH8: 0.01 | AI8: 0.01 | AJ8: 0.02 | AK8: 0.02 | AL8: 5362.58
A9: Bolivia | B9: 76 | C9: 0 | D9: 0 | E9: 0 | F9: 0 | G9: 0 | H9: 0 | I9: 0 | J9: 0 | K9: 0.01 | L9: 0.02 | M9: 0 | N9: 0.01 | O9: 0.02 | P9: 0 | Q9: 0.01 | R9: 0.02 | S9: 0 | T9: 0.01 | U9: 0.01 | V9: 0 | W9: 0.01 | X9: 0.05 | Y9: 0.01 | Z9: 0.01 | AA9: 0.02 | AB9: 0.01 | AC9: 0.01 | AD9: 0.01 | AE9: 0.01 | AF9: 0.01 | AG9: 0.01 | AH9: 0.01 | AI9: 0.01 | AJ9: 0.01 | AK9: 0.01 | AL9: 3315.65
A10: Bosnia and Herzegovina | B10: 69 | C10: 0 | D10: 0 | E10: 0 | F10: 0 | G10: 0 | H10: 0 | I10: 0 | J10: 0 | K10: 0.01 | L10: 0.01 | M10: 0 | N10: 0.01 | O10: 0.01 | P10: 0 | Q10: 0.01 | R10: 0.01 | S10: 0 | T10: 0.01 | U10: 0.01 | V10: 0 | W10: 0.01 | X10: 0.99 | Y10: 0.02 | Z10: 0.01 | AA10: 0.99 | AB10: 0.01 | AC10: 0.01 | AD10: 0.05 | AE10: 0.01 | AF10: 0.01 | AG10: 0.01 | AH10: 0.01 | AI10: 0.01 | AJ10: 0.01 | AK10: 0.01 | AL10: 3881.91
A11: Brazil | B11: 9 | C11: 1 | D11: 0.1 | E11: 0 | F11: 0.05 | G11: 1 | H11: 0.1 | I11: 0 | J11: 0.05 | K11: 0.01 | L11: 0.01 | M11: 0 | N11: 0.01 | O11: 0.01 | P11: 0 | Q11: 0.01 | R11: 0.01 | S11: 0 | T11: 0.01 | U11: 0.01 | V11: 0 | W11: 0.01 | X11: 0.01 | Y11: 0.01 | Z11: 0.01 | AA11: 0.01 | AB11: 0.01 | AC11: 0.01 | AD11: 0.01 | AE11: 0.01 | AF11: 0.01 | AG11: 0.01 | AH11: 0.01 | AI11: 0.01 | AJ11: 0.01 | AK11: 0.01 | AL11: 4852.92
A12: Bulgaria | B12: 42 | C12: 1 | D12: 0.37 | E12: 0.05 | F12: 1 | G12: 1 | H12: 0.37 | I12: 0.05 | J12: 1 | K12: 0.01 | L12: 0.01 | M12: 0 | N12: 0.01 | O12: 0.01 | P12: 0 | Q12: 0.01 | R12: 0.01 | S12: 0 | T12: 0.01 | U12: 0.01 | V12: 0 | W12: 0.01 | X12: 0.01 | Y12: 0.01 | Z12: 0.01 | AA12: 0.01 | AB12: 0.01 | AC12: 0.01 | AD12: 0.01 | AE12: 0.01 | AF12: 0.01 | AG12: 0.01 | AH12: 0.01 | AI12: 0.01 | AJ12: 0.01 | AK12: 0.01 | AL12: 5143.91
A13: Canada | B13: 23 | C13: 0.25 | D13: 1 | E13: 0.3 | F13: 0.55 | G13: 0.25 | H13: 1 | I13: 0.3 | J13: 0.55 | K13: 0.01 | L13: 0.01 | M13: 0 | N13: 0.01 | O13: 0.01 | P13: 0 | Q13: 0.01 | R13: 0.01 | S13: 0 | T13: 0.01 | U13: 0.01 | V13: 0 | W13: 0.01 | X13: 0.01 | Y13: 0.01 | Z13: 0.01 | AA13: 0.01 | AB13: 0.01 | AC13: 0.01 | AD13: 0.01 | AE13: 0.01 | AF13: 0.01 | AG13: 0.01 | AH13: 0.01 | AI13: 0.01 | AJ13: 0.01 | AK13: 0.01 | AL13: 4639.46
... A75: Venezuela | B75: 28 | C75: 0.3 | D75: 0.3 | E75: 0.1 | F75: 0.1 | G75: 0.3 | H75: 0.3 | I75: 0.1 | J75: 0.1 | K75: 0.01 | L75: 0.01 | M75: 0 | N75: 0.01 | O75: 0.01 | P75: 0 | Q75: 0.01 | R75: 0.01 | S75: 0 | T75: 0.01 | U75: 0.01 | V75: 0 | W75: 0.01 | X75: 0.01 | Y75: 0.01 | Z75: 0.01 | AA75: 0.01 | AB75: 0.01 | AC75: 0.01 | AD75: 0.01 | AE75: 0.01 | AF75: 0.01 | AG75: 0.01 | AH75: 0.01 | AI75: 0.01 | AJ75: 0.01 | AK75: 0.01 | AL75: 4940.12

Sheet Regions
A1: id | B1: name | C1: pollution_frm | D1: pollution_food_1 | E1: pollution_food_2 | F1: pollution_food_3 | G1: pollution_food_4 | H1: pollution_food_5 | I1: pollution_food_6 | J1: pollution_food_7 | K1: pollution_wrm | L1: pollution_weapon_1 | M1: pollution_weapon_2 | N1: pollution_weapon_3 | O1: pollution_weapon_4 | P1: pollution_weapon_5 | Q1: pollution_weapon_6 | R1: pollution_weapon_7 | S1: pollution_hrm | T1: pollution_house_1 | U1: pollution_house_2 | V1: pollution_house_3 | W1: pollution_house_4 | X1: pollution_house_5 | Y1: pollution_house_6 | Z1: pollution_house_7 | AA1: pollution_arm | AB1: pollution_aircraft_1 | AC1: pollution_aircraft_2 | AD1: pollution_aircraft_3 | AE1: pollution_aircraft_4 | AF1: pollution_aircraft_5 | AG1: pollution_aircraft_6 | AH1: pollution_aircraft_7 | AI1: productivity_absolute_frm | AJ1: productivity_absolute_food_1 | AK1: productivity_absolute_food_2 | AL1: productivity_absolute_food_3 | AM1: productivity_absolute_food_4 | AN1: productivity_absolute_food_5 | AO1: productivity_absolute_food_6 | AP1: productivity_absolute_food_7 | AQ1: productivity_absolute_wrm | AR1: productivity_absolute_weapon_1 | AS1: productivity_absolute_weapon_2 | AT1: productivity_absolute_weapon_3 | AU1: productivity_absolute_weapon_4 | AV1: productivity_absolute_weapon_5 | AW1: productivity_absolute_weapon_6 | AX1: productivity_absolute_weapon_7 | AY1: productivity_absolute_hrm | AZ1: productivity_absolute_house_1 | BA1: productivity_absolute_house_2 | BB1: productivity_absolute_house_3 | BC1: productivity_absolute_house_4 | BD1: productivity_absolute_house_5 | BE1: productivity_absolute_house_6 | BF1: productivity_absolute_house_7 | BG1: productivity_absolute_arm | BH1: productivity_absolute_aircraft_1 | BI1: productivity_absolute_aircraft_2 | BJ1: productivity_absolute_aircraft_3 | BK1: productivity_absolute_aircraft_4 | BL1: productivity_absolute_aircraft_5 | BM1: productivity_absolute_aircraft_6 | BN1: productivity_absolute_aircraft_7 | BO1: bonus_food | BP1: bonus_weapon | BQ1: bonus_house | BR1: bonus_aircraft | BS1: current_owner_country_id | BT1: original_owner_country_id
A2: 3 | B2: Dobrogea | C2: 2.81 | D2: 16.49 | E2: 5.75 | F2: 1.63 | G2: 0.15 | H2: 0.15 | I2: 0 | J2: 1.31 | K2: 0.19 | L2: 0 | M2: 0.03 | N2: 0 | O2: 0 | P2: 0 | Q2: 0 | R2: 7.61 | S2: 0 | T2: 1.35 | U2: 0 | V2: 0 | W2: 0 | X2: 0 | Y2: 0 | Z2: 0 | AA2: 25 | AB2: 6.65 | AC2: 0.29 | AD2: 0 | AE2: 0 | AF2: 25 | AG2: 0 | AH2: 0 | AI2: 97.19 | AJ2: 83.51 | AK2: 94.25 | AL2: 98.37 | AM2: 99.85 | AN2: 99.85 | AO2: 100 | AP2: 98.69 | AQ2: 34.81 | AR2: 35 | AS2: 34.97 | AT2: 35 | AU2: 35 | AV2: 35 | AW2: 35 | AX2: 27.39 | AY2: 20 | AZ2: 18.65 | BA2: 20 | BB2: 20 | BC2: 20 | BD2: 20 | BE2: 20 | BF2: 20 | BG2: 89 | BH2: 107.35 | BI2: 113.71 | BJ2: 114 | BK2: 114 | BL2: 89 | BM2: 114 | BN2: 114 | BO2: 0 | BP2: 0 | BQ2: 0 | BR2: 14 | BS2: 1 | BT2: 1
A3: 5 | B3: Muntenia | C3: 2.96 | D3: 3.35 | E3: 7.79 | F3: 3.28 | G3: 0.37 | H3: 0.75 | I3: 0 | J3: 2.15 | K3: 0.26 | L3: 0 | M3: 0 | N3: 0 | O3: 0 | P3: 0 | Q3: 0 | R3: 6.64 | S3: 0 | T3: 0.42 | U3: 0 | V3: 0 | W3: 0 | X3: 0 | Y3: 0 | Z3: 0 | AA3: 0 | AB3: 0 | AC3: 0 | AD3: 0 | AE3: 0 | AF3: 1.11 | AG3: 0 | AH3: 0 | AI3: 97.04 | AJ3: 96.65 | AK3: 92.21 | AL3: 96.72 | AM3: 99.63 | AN3: 99.25 | AO3: 100 | AP3: 97.85 | AQ3: 34.74 | AR3: 35 | AS3: 35 | AT3: 35 | AU3: 35 | AV3: 35 | AW3: 35 | AX3: 28.36 | AY3: 20 | AZ3: 19.58 | BA3: 20 | BB3: 20 | BC3: 20 | BD3: 20 | BE3: 20 | BF3: 20 | BG3: 100 | BH3: 100 | BI3: 100 | BJ3: 100 | BK3: 100 | BL3: 98.89 | BM3: 100 | BN3: 100 | BO3: 0 | BP3: 0 | BQ3: 0 | BR3: 0 | BS3: 1 | BT3: 1
A4: 9 | B4: Oltenia | C4: 1.31 | D4: 7.36 | E4: 4.87 | F4: 0.93 | G4: 0.69 | H4: 0.06 | I4: 0 | J4: 0.15 | K4: 0 | L4: 0 | M4: 0 | N4: 0 | O4: 0 | P4: 0 | Q4: 0 | R4: 2.07 | S4: 0 | T4: 0 | U4: 0 | V4: 0 | W4: 0 | X4: 0 | Y4: 0 | Z4: 0 | AA4: 0 | AB4: 0 | AC4: 0 | AD4: 0 | AE4: 0 | AF4: 0 | AG4: 0 | AH4: 0 | AI4: 98.69 | AJ4: 92.64 | AK4: 95.13 | AL4: 99.07 | AM4: 99.31 | AN4: 99.94 | AO4: 100 | AP4: 99.85 | AQ4: 35 | AR4: 35 | AS4: 35 | AT4: 35 | AU4: 35 | AV4: 35 | AW4: 35 | AX4: 32.93 | AY4: 20 | AZ4: 20 | BA4: 20 | BB4: 20 | BC4: 20 | BD4: 20 | BE4: 20 | BF4: 20 | BG4: 100 | BH4: 100 | BI4: 100 | BJ4: 100 | BK4: 100 | BL4: 100 | BM4: 100 | BN4: 100 | BO4: 0 | BP4: 0 | BQ4: 0 | BR4: 0 | BS4: 1 | BT4: 1
A5: 11 | B5: Banat | C5: 0 | D5: 0 | E5: 0 | F5: 0 | G5: 0 | H5: 0 | I5: 0 | J5: 0 | K5: 0 | L5: 0 | M5: 0 | N5: 0 | O5: 0 | P5: 0 | Q5: 0 | R5: 0 | S5: 0 | T5: 0 | U5: 0 | V5: 0 | W5: 0 | X5: 0 | Y5: 0 | Z5: 0 | AA5: 0 | AB5: 0 | AC5: 0 | AD5: 0 | AE5: 0 | AF5: 0 | AG5: 0 | AH5: 0 | AI5: 15 | AJ5: 15 | AK5: 15 | AL5: 15 | AM5: 15 | AN5: 15 | AO5: 15 | AP5: 15 | AQ5: 0 | AR5: 0 | AS5: 0 | AT5: 0 | AU5: 0 | AV5: 0 | AW5: 0 | AX5: 0 | AY5: 45 | AZ5: 45 | BA5: 45 | BB5: 45 | BC5: 45 | BD5: 45 | BE5: 45 | BF5: 45 | BG5: 10 | BH5: 10 | BI5: 10 | BJ5: 10 | BK5: 10 | BL5: 10 | BM5: 10 | BN5: 10 | BO5: 0 | BP5: 0 | BQ5: 0 | BR5: 0 | BS5: 54 | BT5: 1
A6: 35 | B6: Transilvania | C6: 12.88 | D6: 11.43 | E6: 9.01 | F6: 5.66 | G6: 5.5 | H6: 17.91 | I6: 2.66 | J6: 6.52 | K6: 1.17 | L6: 0 | M6: 0 | N6: 0 | O6: 0 | P6: 0 | Q6: 0 | R6: 13.18 | S6: 0 | T6: 4.05 | U6: 2.31 | V6: 0 | W6: 0 | X6: 0 | Y6: 0 | Z6: 0 | AA6: 1.97 | AB6: 0 | AC6: 0 | AD6: 0 | AE6: 0 | AF6: 11.22 | AG6: 0 | AH6: 0 | AI6: 105.12 | AJ6: 106.57 | AK6: 108.99 | AL6: 112.34 | AM6: 112.5 | AN6: 100.09 | AO6: 115.34 | AP6: 111.48 | AQ6: 33.83 | AR6: 35 | AS6: 35 | AT6: 35 | AU6: 35 | AV6: 35 | AW6: 35 | AX6: 21.82 | AY6: 20 | AZ6: 15.95 | BA6: 17.69 | BB6: 20 | BC6: 20 | BD6: 20 | BE6: 20 | BF6: 20 | BG6: 98.03 | BH6: 100 | BI6: 100 | BJ6: 100 | BK6: 100 | BL6: 88.78 | BM6: 100 | BN6: 100 | BO6: 18 | BP6: 0 | BQ6: 0 | BR6: 0 | BS6: 1 | BT6: 1
A7: 36 | B7: Crisana | C7: 0 | D7: 0 | E7: 0 | F7: 0 | G7: 0 | H7: 0 | I7: 0 | J7: 0 | K7: 0 | L7: 0 | M7: 0 | N7: 0 | O7: 0 | P7: 0 | Q7: 0 | R7: 0 | S7: 0 | T7: 0 | U7: 0 | V7: 0 | W7: 0 | X7: 0 | Y7: 0 | Z7: 0 | AA7: 0 | AB7: 0 | AC7: 0 | AD7: 0 | AE7: 0 | AF7: 8.37 | AG7: 0 | AH7: 0 | AI7: 100 | AJ7: 100 | AK7: 100 | AL7: 100 | AM7: 100 | AN7: 100 | AO7: 100 | AP7: 100 | AQ7: 35 | AR7: 35 | AS7: 35 | AT7: 35 | AU7: 35 | AV7: 35 | AW7: 35 | AX7: 35 | AY7: 20 | AZ7: 20 | BA7: 20 | BB7: 20 | BC7: 20 | BD7: 20 | BE7: 20 | BF7: 20 | BG7: 100 | BH7: 100 | BI7: 100 | BJ7: 100 | BK7: 100 | BL7: 91.63 | BM7: 100 | BN7: 100 | BO7: 0 | BP7: 0 | BQ7: 0 | BR7: 0 | BS7: 1 | BT7: 1
A8: 37 | B8: Moldova | C8: 14.67 | D8: 14.18 | E8: 19.02 | F8: 8.67 | G8: 4.52 | H8: 18.82 | I8: 1.91 | J8: 11.61 | K8: 8 | L8: 2.05 | M8: 0.25 | N8: 0.09 | O8: 0.25 | P8: 0.42 | Q8: 0.42 | R8: 25 | S8: 0.03 | T8: 4.13 | U8: 3.24 | V8: 1.13 | W8: 0 | X8: 0 | Y8: 0 | Z8: 0 | AA8: 1.67 | AB8: 0.21 | AC8: 0 | AD8: 0 | AE8: 0 | AF8: 19.15 | AG8: 0 | AH8: 0 | AI8: 85.33 | AJ8: 85.82 | AK8: 80.98 | AL8: 91.33 | AM8: 95.48 | AN8: 81.18 | AO8: 98.09 | AP8: 88.39 | AQ8: 34 | AR8: 39.95 | AS8: 41.75 | AT8: 41.91 | AU8: 41.75 | AV8: 41.58 | AW8: 41.58 | AX8: 17 | AY8: 19.97 | AZ8: 15.87 | BA8: 16.76 | BB8: 18.87 | BC8: 20 | BD8: 20 | BE8: 20 | BF8: 20 | BG8: 98.33 | BH8: 99.79 | BI8: 100 | BJ8: 100 | BK8: 100 | BL8: 80.85 | BM8: 100 | BN8: 100 | BO8: 0 | BP8: 7 | BQ8: 0 | BR8: 0 | BS8: 1 | BT8: 1
A9: 38 | B9: Maramures | C9: 0 | D9: 0 | E9: 0 | F9: 0 | G9: 0 | H9: 0 | I9: 0 | J9: 0 | K9: 0 | L9: 0 | M9: 0 | N9: 0 | O9: 0 | P9: 0 | Q9: 0 | R9: 0 | S9: 0 | T9: 0 | U9: 0 | V9: 0 | W9: 0 | X9: 0 | Y9: 0 | Z9: 0 | AA9: 0 | AB9: 0 | AC9: 0 | AD9: 0 | AE9: 0 | AF9: 0 | AG9: 0 | AH9: 0 | AI9: 35 | AJ9: 35 | AK9: 35 | AL9: 35 | AM9: 35 | AN9: 35 | AO9: 35 | AP9: 35 | AQ9: 0 | AR9: 0 | AS9: 0 | AT9: 0 | AU9: 0 | AV9: 0 | AW9: 0 | AX9: 0 | AY9: 35 | AZ9: 35 | BA9: 35 | BB9: 35 | BC9: 35 | BD9: 35 | BE9: 35 | BF9: 35 | BG9: 0 | BH9: 0 | BI9: 0 | BJ9: 0 | BK9: 0 | BL9: 0 | BM9: 0 | BN9: 0 | BO9: 0 | BP9: 0 | BQ9: 0 | BR9: 0 | BS9: 10 | BT9: 1
A10: 39 | B10: Bucovina | C10: 0.83 | D10: 3.68 | E10: 2.06 | F10: 2.23 | G10: 0 | H10: 3.7 | I10: 0 | J10: 0.15 | K10: 0 | L10: 0 | M10: 0 | N10: 0 | O10: 0 | P10: 0 | Q10: 0 | R10: 3.57 | S10: 0 | T10: 0 | U10: 0 | V10: 0 | W10: 0 | X10: 0 | Y10: 0 | Z10: 0 | AA10: 2.91 | AB10: 0.21 | AC10: 0 | AD10: 0 | AE10: 0 | AF10: 11.67 | AG10: 0 | AH10: 0 | AI10: 99.17 | AJ10: 96.32 | AK10: 97.94 | AL10: 97.77 | AM10: 100 | AN10: 96.3 | AO10: 100 | AP10: 99.85 | AQ10: 35 | AR10: 35 | AS10: 35 | AT10: 35 | AU10: 35 | AV10: 35 | AW10: 35 | AX10: 31.43 | AY10: 20 | AZ10: 20 | BA10: 20 | BB10: 20 | BC10: 20 | BD10: 20 | BE10: 20 | BF10: 20 | BG10: 97.09 | BH10: 99.79 | BI10: 100 | BJ10: 100 | BK10: 100 | BL10: 88.33 | BM10: 100 | BN10: 100 | BO10: 0 | BP10: 0 | BQ10: 0 | BR10: 0 | BS10: 1 | BT10: 1
A11: 40 | B11: Alabama | C11: 0 | D11: 0 | E11: 0 | F11: 0 | G11: 0 | H11: 0 | I11: 0 | J11: 0 | K11: 0 | L11: 0 | M11: 0 | N11: 0 | O11: 0 | P11: 0 | Q11: 0 | R11: 0 | S11: 0 | T11: 0 | U11: 0 | V11: 0 | W11: 0 | X11: 0 | Y11: 0 | Z11: 0 | AA11: 0 | AB11: 0 | AC11: 0 | AD11: 0 | AE11: 0 | AF11: 0 | AG11: 0 | AH11: 0 | AI11: 0 | AJ11: 0 | AK11: 0 | AL11: 0 | AM11: 0 | AN11: 0 | AO11: 0 | AP11: 0 | AQ11: 70 | AR11: 70 | AS11: 70 | AT11: 70 | AU11: 70 | AV11: 70 | AW11: 70 | AX11: 70 | AY11: 50 | AZ11: 50 | BA11: 50 | BB11: 50 | BC11: 50 | BD11: 50 | BE11: 50 | BF11: 50 | BG11: 10 | BH11: 10 | BI11: 10 | BJ11: 10 | BK11: 10 | BL11: 10 | BM11: 10 | BN11: 10 | BO11: 0 | BP11: 0 | BQ11: 0 | BR11: 0 | BS11: 71 | BT11: 24
A12: 41 | B12: Alaska | C12: 0 | D12: 2.66 | E12: 0 | F12: 0 | G12: 0 | H12: 1.02 | I12: 0 | J12: 0 | K12: 0.2 | L12: 0 | M12: 0 | N12: 0 | O12: 0 | P12: 0 | Q12: 0 | R12: 4.06 | S12: 0 | T12: 0 | U12: 0 | V12: 0 | W12: 0 | X12: 0 | Y12: 0 | Z12: 0 | AA12: 0 | AB12: 0 | AC12: 0 | AD12: 0 | AE12: 0 | AF12: 0 | AG12: 0 | AH12: 0 | AI12: 100 | AJ12: 97.34 | AK12: 100 | AL12: 100 | AM12: 100 | AN12: 98.98 | AO12: 100 | AP12: 100 | AQ12: 99.8 | AR12: 100 | AS12: 100 | AT12: 100 | AU12: 100 | AV12: 100 | AW12: 100 | AX12: 95.94 | AY12: 0 | AZ12: 0 | BA12: 0 | BB12: 0 | BC12: 0 | BD12: 0 | BE12: 0 | BF12: 0 | BG12: 0 | BH12: 0 | BI12: 0 | BJ12: 0 | BK12: 0 | BL12: 0 | BM12: 0 | BN12: 0 | BO12: 0 | BP12: 0 | BQ12: 0 | BR12: 0 | BS12: 24 | BT12: 24
A13: 42 | B13: Arizona | C13: 0 | D13: 0 | E13: 0 | F13: 0 | G13: 0 | H13: 0 | I13: 0 | J13: 0 | K13: 0 | L13: 0 | M13: 0 | N13: 0 | O13: 0 | P13: 0 | Q13: 0 | R13: 0 | S13: 0 | T13: 0 | U13: 0 | V13: 0 | W13: 0 | X13: 0 | Y13: 0 | Z13: 0 | AA13: 0 | AB13: 0 | AC13: 0 | AD13: 0 | AE13: 0 | AF13: 0 | AG13: 0 | AH13: 0 | AI13: 100 | AJ13: 100 | AK13: 100 | AL13: 100 | AM13: 100 | AN13: 100 | AO13: 100 | AP13: 100 | AQ13: 10 | AR13: 10 | AS13: 10 | AT13: 10 | AU13: 10 | AV13: 10 | AW13: 10 | AX13: 10 | AY13: 0 | AZ13: 0 | BA13: 0 | BB13: 0 | BC13: 0 | BD13: 0 | BE13: 0 | BF13: 0 | BG13: 5 | BH13: 5 | BI13: 5 | BJ13: 5 | BK13: 5 | BL13: 5 | BM13: 5 | BN13: 5 | BO13: 0 | BP13: 0 | BQ13: 0 | BR13: 0 | BS13: 9 | BT13: 24
... A575: 764 | B575: Oriente | C575: 0 | D575: 0 | E575: 0 | F575: 0 | G575: 0 | H575: 0 | I575: 0 | J575: 0 | K575: 0 | L575: 0 | M575: 0 | N575: 0 | O575: 0 | P575: 0 | Q575: 0 | R575: 0 | S575: 0 | T575: 0 | U575: 0 | V575: 0 | W575: 0 | X575: 0 | Y575: 0 | Z575: 0 | AA575: 0 | AB575: 0 | AC575: 0 | AD575: 0 | AE575: 0 | AF575: 0 | AG575: 0 | AH575: 0 | AI575: 55 | AJ575: 55 | AK575: 55 | AL575: 55 | AM575: 55 | AN575: 55 | AO575: 55 | AP575: 55 | AQ575: 4 | AR575: 4 | AS575: 4 | AT575: 4 | AU575: 4 | AV575: 4 | AW575: 4 | AX575: 4 | AY575: 26.5 | AZ575: 26.5 | BA575: 26.5 | BB575: 26.5 | BC575: 26.5 | BD575: 26.5 | BE575: 26.5 | BF575: 26.5 | BG575: 0 | BH575: 0 | BI575: 0 | BJ575: 0 | BK575: 0 | BL575: 0 | BM575: 0 | BN575: 0 | BO575: 0 | BP575: 4 | BQ575: 4 | BR575: 0 | BS575: 171 | BT575: 171

Sheet Vars
A1: {=_xlfn._xlws.SORT(_xlfn._xlws.FILTER(Regions[name],VLOOKUP('General information'!C5,'Countries'!$A$1:$B$75,2,FALSE)=Regions[current_owner_country_id]))} -> #N/A | B1: {=_xlfn._xlws.SORT(_xlfn._xlws.FILTER(Regions[name],VLOOKUP('General information'!D5,'Countries'!$A$1:$B$75,2,FALSE)=Regions[current_owner_country_id]))} -> #N/A | C1: {=_xlfn._xlws.SORT(_xlfn._xlws.FILTER(Regions[name],VLOOKUP('General information'!C19,'Countries'!$A$1:$B$75,2,FALSE)=Regions[current_owner_country_id]))} -> #N/A | D1: {=_xlfn._xlws.SORT(_xlfn._xlws.FILTER(Regions[name],VLOOKUP('General information'!D19,'Countries'!$A$1:$B$75,2,FALSE)=Regions[current_owner_country_id]))} -> #N/A | E1: {=_xlfn._xlws.SORT(_xlfn._xlws.FILTER(Regions[name],VLOOKUP('General information'!K5,'Countries'!$A$1:$B$75,2,FALSE)=Regions[current_owner_country_id]))} -> #N/A | F1: {=_xlfn._xlws.SORT(_xlfn._xlws.FILTER(Regions[name],VLOOKUP('General information'!L5,'Countries'!$A$1:$B$75,2,FALSE)=Regions[current_owner_country_id]))} -> #N/A | G1: {=_xlfn._xlws.SORT(_xlfn._xlws.FILTER(Regions[name],VLOOKUP('General information'!K19,'Countries'!$A$1:$B$75,2,FALSE)=Regions[current_owner_country_id]))} -> #N/A | H1: {=_xlfn._xlws.SORT(_xlfn._xlws.FILTER(Regions[name],VLOOKUP('General information'!L19,'Countries'!$A$1:$B$75,2,FALSE)=Regions[current_owner_country_id]))} -> #N/A

Sheet Gold_Price
A1: Gold_Price
A2: 994.999

Sheet WQ6 Offers
A1: id | B1: country_id | C1: amount | D1: net | E1: gross | F1: added
A2: 75896577 | B2: 24 | C2: 786 | D2: 39.5743 | E2: 39.97 | F2: 2024-11-07 02:34:04
A3: 75882600 | B3: 24 | C3: 18 | D3: 39.5842 | E3: 39.98 | F3: 2024-11-07 02:34:04
A4: 75894001 | B4: 65 | C4: 980 | D4: 39.5941 | E4: 39.99 | F4: 2024-11-07 02:34:04
A5: 75893487 | B5: 65 | C5: 3980 | D5: 39.604 | E5: 40 | F5: 2024-11-07 02:34:04
A6: 75883867 | B6: 43 | C6: 3273 | D6: 39.604 | E6: 40 | F6: 2024-11-07 02:34:04
A7: 75614155 | B7: 54 | C7: 2500 | D7: 39.604 | E7: 40 | F7: 2024-11-07 02:34:04
A8: 75891601 | B8: 43 | C8: 40 | D8: 39.604 | E8: 40 | F8: 2024-11-07 02:34:04
A9: 75893490 | B9: 43 | C9: 3 | D9: 39.604 | E9: 40 | F9: 2024-11-07 02:34:04
A10: 75882991 | B10: 81 | C10: 312 | D10: 39.6733 | E10: 40.07 | F10: 2024-11-07 02:34:04
A11: 75878610 | B11: 65 | C11: 785 | D11: 39.703 | E11: 40.1 | F11: 2024-11-07 02:34:04
A12: 75719256 | B12: 40 | C12: 1051 | D12: 40.099 | E12: 40.5 | F12: 2024-11-07 02:34:04
A13: 75835441 | B13: 24 | C13: 1286 | D13: 40.4158 | E13: 40.82 | F13: 2024-11-07 02:34:04
... A31: 75894657 | B31: 9 | C31: 377 | D31: 44.1078 | E31: 44.99 | F31: 2024-11-07 02:34:03

Sheet WQ5 Offers
A1: id | B1: country_id | C1: amount | D1: net | E1: gross | F1: added
A2: 75896822 | B2: 35 | C2: 2650 | D2: 29.5545 | E2: 29.85 | F2: 2024-11-07 02:34:04
A3: 75895209 | B3: 35 | C3: 700 | D3: 14.925 | E3: 29.85 | F3: 2024-11-07 02:34:04
A4: 75897931 | B4: 35 | C4: 320 | D4: 29.5545 | E4: 29.85 | F4: 2024-11-07 02:34:04
A5: 75897874 | B5: 65 | C5: 95 | D5: 29.8911 | E5: 30.19 | F5: 2024-11-07 02:34:04
A6: 75897638 | B6: 65 | C6: 791 | D6: 29.901 | E6: 30.2 | F6: 2024-11-07 02:34:04
A7: 75895828 | B7: 65 | C7: 26 | D7: 29.9208 | E7: 30.22 | F7: 2024-11-07 02:34:04
A8: 75889727 | B8: 65 | C8: 70 | D8: 29.9307 | E8: 30.23 | F8: 2024-11-07 02:34:04
A9: 75885786 | B9: 65 | C9: 1000 | D9: 29.9604 | E9: 30.26 | F9: 2024-11-07 02:34:04
A10: 75882989 | B10: 81 | C10: 205 | D10: 29.9703 | E10: 30.27 | F10: 2024-11-07 02:34:04
A11: 75885720 | B11: 79 | C11: 152 | D11: 30.0792 | E11: 30.38 | F11: 2024-11-07 02:34:04
A12: 75819672 | B12: 78 | C12: 1550 | D12: 30.4851 | E12: 30.79 | F12: 2024-11-07 02:34:04
A13: 75614152 | B13: 54 | C13: 1613 | D13: 30.6931 | E13: 31 | F13: 2024-11-07 02:34:04
... A31: 75882597 | B31: 24 | C31: 87 | D31: 33.6436 | E31: 33.98 | F31: 2024-11-07 02:34:04

Sheet WQ4 Offers
A1: id | B1: country_id | C1: amount | D1: net | E1: gross | F1: added
A2: 75835628 | B2: 168 | C2: 12915 | D2: 9.901 | E2: 10 | F2: 2024-11-07 02:34:04
A3: 75772710 | B3: 26 | C3: 19403 | D3: 10.0891 | E3: 10.19 | F3: 2024-11-07 02:34:04
A4: 75821384 | B4: 26 | C4: 245 | D4: 10.0891 | E4: 10.19 | F4: 2024-11-07 02:34:04
A5: 75812229 | B5: 26 | C5: 52 | D5: 10.0891 | E5: 10.19 | F5: 2024-11-07 02:34:04
A6: 75891238 | B6: 81 | C6: 177 | D6: 10.1089 | E6: 10.21 | F6: 2024-11-07 02:34:04
A7: 75882988 | B7: 81 | C7: 102 | D7: 10.1089 | E7: 10.21 | F7: 2024-11-07 02:34:04
A8: 75715381 | B8: 81 | C8: 290 | D8: 10.1188 | E8: 10.22 | F8: 2024-11-07 02:34:04
A9: 75895820 | B9: 65 | C9: 640 | D9: 10.4158 | E9: 10.52 | F9: 2024-11-07 02:34:04
A10: 75893989 | B10: 65 | C10: 531 | D10: 10.4158 | E10: 10.52 | F10: 2024-11-07 02:34:04
A11: 75897503 | B11: 65 | C11: 253 | D11: 5.26 | E11: 10.52 | F11: 2024-11-07 02:34:04
A12: 75888441 | B12: 65 | C12: 100 | D12: 10.4455 | E12: 10.55 | F12: 2024-11-07 02:34:04
A13: 75881712 | B13: 65 | C13: 200 | D13: 10.4554 | E13: 10.56 | F13: 2024-11-07 02:34:04
... A31: 75889558 | B31: 44 | C31: 90 | D31: 11.8812 | E31: 12 | F31: 2024-11-07 02:34:04

Sheet WQ3 Offers
A1: id | B1: country_id | C1: amount | D1: net | E1: gross | F1: added
A2: 75896305 | B2: 49 | C2: 20 | D2: 3.9604 | E2: 4 | F2: 2024-11-07 02:34:04
A3: 75892481 | B3: 65 | C3: 2129 | D3: 4.6436 | E3: 4.69 | F3: 2024-11-07 02:34:04
A4: 75895818 | B4: 65 | C4: 359 | D4: 4.6436 | E4: 4.69 | F4: 2024-11-07 02:34:04
A5: 75896848 | B5: 65 | C5: 102 | D5: 4.6436 | E5: 4.69 | F5: 2024-11-07 02:34:04
A6: 75881711 | B6: 65 | C6: 65 | D6: 4.6436 | E6: 4.69 | F6: 2024-11-07 02:34:04
A7: 75892312 | B7: 65 | C7: 21 | D7: 4.6436 | E7: 4.69 | F7: 2024-11-07 02:34:04
A8: 75887673 | B8: 13 | C8: 2200 | D8: 4.9307 | E8: 4.98 | F8: 2024-11-07 02:34:04
A9: 75870392 | B9: 13 | C9: 632 | D9: 4.9307 | E9: 4.98 | F9: 2024-11-07 02:34:04
A10: 75894973 | B10: 13 | C10: 187 | D10: 4.9307 | E10: 4.98 | F10: 2024-11-07 02:34:04
A11: 75820934 | B11: 13 | C11: 4980 | D11: 4.9505 | E11: 5 | F11: 2024-11-07 02:34:04
A12: 75894247 | B12: 49 | C12: 100 | D12: 4.9505 | E12: 5 | F12: 2024-11-07 02:34:04
A13: 75772708 | B13: 26 | C13: 28341 | D13: 5.6436 | E13: 5.7 | F13: 2024-11-07 02:34:04
... A31: 75815538 | B31: 23 | C31: 240 | D31: 6.3235 | E31: 6.45 | F31: 2024-11-07 02:34:04

Sheet WQ2 Offers
A1: id | B1: country_id | C1: amount | D1: net | E1: gross | F1: added
A2: 75892994 | B2: 82 | C2: 147 | D2: 2.9703 | E2: 3 | F2: 2024-11-07 02:34:04
A3: 75772705 | B3: 26 | C3: 15521 | D3: 3 | E3: 3.03 | F3: 2024-11-07 02:34:04
A4: 75882721 | B4: 65 | C4: 896 | D4: 3.0594 | E4: 3.09 | F4: 2024-11-07 02:34:04
A5: 75887222 | B5: 65 | C5: 190 | D5: 3.0594 | E5: 3.09 | F5: 2024-11-07 02:34:04
A6: 75895815 | B6: 65 | C6: 189 | D6: 3.0594 | E6: 3.09 | F6: 2024-11-07 02:34:04
A7: 75896846 | B7: 65 | C7: 63 | D7: 3.0594 | E7: 3.09 | F7: 2024-11-07 02:34:04
A8: 75820930 | B8: 13 | C8: 5679 | D8: 3.0693 | E8: 3.1 | F8: 2024-11-07 02:34:04
A9: 75887677 | B9: 13 | C9: 1000 | D9: 3.0693 | E9: 3.1 | F9: 2024-11-07 02:34:04
A10: 75870391 | B10: 13 | C10: 600 | D10: 3.0693 | E10: 3.1 | F10: 2024-11-07 02:34:04
A11: 75889754 | B11: 13 | C11: 175 | D11: 3.0693 | E11: 3.1 | F11: 2024-11-07 02:34:04
A12: 75881710 | B12: 65 | C12: 100 | D12: 3.0693 | E12: 3.1 | F12: 2024-11-07 02:34:04
A13: 75894978 | B13: 13 | C13: 25 | D13: 3.0693 | E13: 3.1 | F13: 2024-11-07 02:34:04
... A31: 75874069 | B31: 35 | C31: 3990 | D31: 4.505 | E31: 4.55 | F31: 2024-11-07 02:34:04

Sheet WQ1 Offers
A1: id | B1: country_id | C1: amount | D1: net | E1: gross | F1: added
A2: 75897820 | B2: 65 | C2: 9 | D2: 1.4059 | E2: 1.42 | F2: 2024-11-07 02:34:04
A3: 75897138 | B3: 65 | C3: 117 | D3: 1.4158 | E3: 1.43 | F3: 2024-11-07 02:34:04
A4: 75772703 | B4: 26 | C4: 16113 | D4: 1.4257 | E4: 1.44 | F4: 2024-11-07 02:34:04
A5: 75894394 | B5: 65 | C5: 816 | D5: 1.4257 | E5: 1.44 | F5: 2024-11-07 02:34:04
A6: 75892894 | B6: 65 | C6: 3 | D6: 1.4356 | E6: 1.45 | F6: 2024-11-07 02:34:04
A7: 75784860 | B7: 65 | C7: 4850 | D7: 1.4554 | E7: 1.47 | F7: 2024-11-07 02:34:04
A8: 75811674 | B8: 38 | C8: 441 | D8: 1.4851 | E8: 1.5 | F8: 2024-11-07 02:34:04
A9: 75819417 | B9: 70 | C9: 499 | D9: 1.5644 | E9: 1.58 | F9: 2024-11-07 02:34:04
A10: 75897803 | B10: 67 | C10: 40 | D10: 1.5743 | E10: 1.59 | F10: 2024-11-07 02:34:04
A11: 75891654 | B11: 79 | C11: 100 | D11: 1.5842 | E11: 1.6 | F11: 2024-11-07 02:34:04
A12: 75709681 | B12: 168 | C12: 90 | D12: 1.5842 | E12: 1.6 | F12: 2024-11-07 02:34:04
A13: 75897021 | B13: 43 | C13: 122 | D13: 1.6337 | E13: 1.65 | F13: 2024-11-07 02:34:04
... A31: 75893951 | B31: 53 | C31: 3300 | D31: 1.9802 | E31: 2 | F31: 2024-11-07 02:34:04

Sheet FQ7 Offers
A1: id | B1: country_id | C1: amount | D1: net | E1: gross | F1: added
A2: 75896533 | B2: 24 | C2: 284000 | D2: 5.396 | E2: 5.45 | F2: 2024-11-07 02:34:04
A3: 75897985 | B3: 42 | C3: 823 | D3: 5.4257 | E3: 5.48 | F3: 2024-11-07 02:34:04
A4: 75897283 | B4: 42 | C4: 799 | D4: 5.4257 | E4: 5.48 | F4: 2024-11-07 02:34:04
A5: 75897959 | B5: 42 | C5: 200 | D5: 5.4257 | E5: 5.48 | F5: 2024-11-07 02:34:04
A6: 75897852 | B6: 42 | C6: 175 | D6: 5.4257 | E6: 5.48 | F6: 2024-11-07 02:34:04
A7: 75896496 | B7: 42 | C7: 198 | D7: 5.3824 | E7: 5.49 | F7: 2024-11-07 02:34:04
A8: 75896599 | B8: 54 | C8: 8050 | D8: 5.4455 | E8: 5.5 | F8: 2024-11-07 02:34:04
A9: 75897152 | B9: 79 | C9: 229 | D9: 5.4455 | E9: 5.5 | F9: 2024-11-07 02:34:04
A10: 75896517 | B10: 24 | C10: 79 | D10: 5.3922 | E10: 5.5 | F10: 2024-11-07 02:34:04
A11: 75897893 | B11: 65 | C11: 49 | D11: 5.4554 | E11: 5.51 | F11: 2024-11-07 02:34:04
A12: 75897634 | B12: 65 | C12: 5150 | D12: 5.4653 | E12: 5.52 | F12: 2024-11-07 02:34:04
A13: 75895324 | B13: 35 | C13: 4252 | D13: 5.4752 | E13: 5.53 | F13: 2024-11-07 02:34:04
... A31: 75891768 | B31: 27 | C31: 504 | D31: 5.5941 | E31: 5.65 | F31: 2024-11-07 02:34:04

Sheet FQ6 Offers
A1: id | B1: country_id | C1: amount | D1: net | E1: gross | F1: added
A2: 75886441 | B2: 37 | C2: 497973 | D2: 3.2673 | E2: 3.3 | F2: 2024-11-07 02:34:04
A3: 75725392 | B3: 50 | C3: 2000 | D3: 3.0275 | E3: 3.3 | F3: 2024-11-07 02:34:04
A4: 75894065 | B4: 29 | C4: 4287 | D4: 3.3069 | E4: 3.34 | F4: 2024-11-07 02:34:04
A5: 75843737 | B5: 23 | C5: 86999 | D5: 3.3168 | E5: 3.35 | F5: 2024-11-07 02:34:04
A6: 75849432 | B6: 23 | C6: 14000 | D6: 3.3168 | E6: 3.35 | F6: 2024-11-07 02:34:04
A7: 75886995 | B7: 49 | C7: 1000 | D7: 3.1604 | E7: 3.35 | F7: 2024-11-07 02:34:04
A8: 75886988 | B8: 23 | C8: 1000 | D8: 3.2843 | E8: 3.35 | F8: 2024-11-07 02:34:04
A9: 75897855 | B9: 23 | C9: 625 | D9: 3.3168 | E9: 3.35 | F9: 2024-11-07 02:34:04
A10: 75886689 | B10: 168 | C10: 500 | D10: 2.913 | E10: 3.35 | F10: 2024-11-07 02:34:04
A11: 75886999 | B11: 47 | C11: 1000 | D11: 3.3235 | E11: 3.39 | F11: 2024-11-07 02:34:04
A12: 75572234 | B12: 47 | C12: 933 | D12: 3.3235 | E12: 3.39 | F12: 2024-11-07 02:34:04
A13: 75864155 | B13: 42 | C13: 3000 | D13: 3.3663 | E13: 3.4 | F13: 2024-11-07 02:34:04
... A31: 75857606 | B31: 13 | C31: 49763 | D31: 3.4653 | E31: 3.5 | F31: 2024-11-07 02:34:04

Sheet FQ4 Offers
A1: id | B1: country_id | C1: amount | D1: net | E1: gross | F1: added
A2: 75892348 | B2: 40 | C2: 3946 | D2: 2.1089 | E2: 2.13 | F2: 2024-11-07 02:34:04
A3: 75898113 | B3: 65 | C3: 342 | D3: 2.1188 | E3: 2.14 | F3: 2024-11-07 02:34:04
A4: 75893124 | B4: 49 | C4: 7070 | D4: 2.1287 | E4: 2.15 | F4: 2024-11-07 02:34:04
A5: 75898102 | B5: 65 | C5: 339 | D5: 2.1287 | E5: 2.15 | F5: 2024-11-07 02:34:04
A6: 75894062 | B6: 29 | C6: 16386 | D6: 2.1386 | E6: 2.16 | F6: 2024-11-07 02:34:04
A7: 75898080 | B7: 65 | C7: 355 | D7: 2.1386 | E7: 2.16 | F7: 2024-11-07 02:34:04
A8: 75837956 | B8: 42 | C8: 242826 | D8: 2.1584 | E8: 2.18 | F8: 2024-11-07 02:34:04
A9: 75896579 | B9: 24 | C9: 6135 | D9: 2.1584 | E9: 2.18 | F9: 2024-11-07 02:34:04
A10: 75897062 | B10: 42 | C10: 1191 | D10: 2.1584 | E10: 2.18 | F10: 2024-11-07 02:34:04
A11: 75896559 | B11: 42 | C11: 790 | D11: 2.1584 | E11: 2.18 | F11: 2024-11-07 02:34:04
A12: 75732262 | B12: 50 | C12: 495 | D12: 2 | E12: 2.18 | F12: 2024-11-07 02:34:04
A13: 75893178 | B13: 65 | C13: 117002 | D13: 2.1683 | E13: 2.19 | F13: 2024-11-07 02:34:04
... A31: 75896632 | B31: 27 | C31: 565 | D31: 2.1782 | E31: 2.2 | F31: 2024-11-07 02:34:04

Sheet FQ3 Offers
A1: id | B1: country_id | C1: amount | D1: net | E1: gross | F1: added
A2: 75897900 | B2: 13 | C2: 999 | D2: 1.5842 | E2: 1.6 | F2: 2024-11-07 02:34:04
A3: 75898020 | B3: 65 | C3: 100 | D3: 1.6139 | E3: 1.63 | F3: 2024-11-07 02:34:04
A4: 75897862 | B4: 65 | C4: 7544 | D4: 1.6238 | E4: 1.64 | F4: 2024-11-07 02:34:04
A5: 75896568 | B5: 1 | C5: 393 | D5: 1.6238 | E5: 1.64 | F5: 2024-11-07 02:34:03
A6: 75895122 | B6: 65 | C6: 915860 | D6: 1.6337 | E6: 1.65 | F6: 2024-11-07 02:34:04
A7: 75867548 | B7: 13 | C7: 586920 | D7: 1.6337 | E7: 1.65 | F7: 2024-11-07 02:34:04
A8: 75878980 | B8: 72 | C8: 82310 | D8: 1.6337 | E8: 1.65 | F8: 2024-11-07 02:34:04
A9: 75876270 | B9: 56 | C9: 38899 | D9: 1.6176 | E9: 1.65 | F9: 2024-11-07 02:34:04
A10: 75888710 | B10: 1 | C10: 18900 | D10: 1.6337 | E10: 1.65 | F10: 2024-11-07 02:34:03
A11: 75893884 | B11: 49 | C11: 13850 | D11: 1.6337 | E11: 1.65 | F11: 2024-11-07 02:34:04
A12: 75886879 | B12: 65 | C12: 7923 | D12: 1.6337 | E12: 1.65 | F12: 2024-11-07 02:34:04
A13: 75894061 | B13: 29 | C13: 6286 | D13: 1.6337 | E13: 1.65 | F13: 2024-11-07 02:34:04
... A31: 75897276 | B31: 27 | C31: 399 | D31: 1.6634 | E31: 1.68 | F31: 2024-11-07 02:34:04

Sheet FQ2 Offers
A1: id | B1: country_id | C1: amount | D1: net | E1: gross | F1: added
A2: 75898022 | B2: 27 | C2: 24821 | D2: 1.0792 | E2: 1.09 | F2: 2024-11-07 02:34:04
A3: 75898059 | B3: 49 | C3: 15896 | D3: 1.0792 | E3: 1.09 | F3: 2024-11-07 02:34:04
A4: 75896939 | B4: 49 | C4: 12897 | D4: 1.0792 | E4: 1.09 | F4: 2024-11-07 02:34:04
A5: 75896832 | B5: 27 | C5: 1000 | D5: 1.0792 | E5: 1.09 | F5: 2024-11-07 02:34:04
A6: 75894734 | B6: 27 | C6: 754 | D6: 1.0792 | E6: 1.09 | F6: 2024-11-07 02:34:04
A7: 75896629 | B7: 27 | C7: 543 | D7: 1.0792 | E7: 1.09 | F7: 2024-11-07 02:34:04
A8: 75896103 | B8: 29 | C8: 4000 | D8: 1.0891 | E8: 1.1 | F8: 2024-11-07 02:34:04
A9: 75893131 | B9: 49 | C9: 3446 | D9: 1.0891 | E9: 1.1 | F9: 2024-11-07 02:34:04
A10: 75764101 | B10: 32 | C10: 2350 | D10: 1.0784 | E10: 1.1 | F10: 2024-11-07 02:34:04
A11: 75897980 | B11: 65 | C11: 740 | D11: 1.0891 | E11: 1.1 | F11: 2024-11-07 02:34:04
A12: 75897899 | B12: 65 | C12: 4216 | D12: 1.099 | E12: 1.11 | F12: 2024-11-07 02:34:04
A13: 75880935 | B13: 54 | C13: 4301 | D13: 1.098 | E13: 1.12 | F13: 2024-11-07 02:34:04
... A31: 75893745 | B31: 64 | C31: 22955 | D31: 1.1485 | E31: 1.16 | F31: 2024-11-07 02:34:04

Sheet HQ5 Offers
A1: id | B1: country_id | C1: amount | D1: net | E1: gross | F1: added
A2: 75897842 | B2: 35 | C2: 1 | D2: 278217.82 | E2: 281000 | F2: 2024-11-07 02:34:04
A3: 75898003 | B3: 42 | C3: 1 | D3: 276470.59 | E3: 282000 | F3: 2024-11-07 02:34:04
A4: 75895535 | B4: 12 | C4: 1 | D4: 187377.48 | E4: 282940 | F4: 2024-11-07 02:34:04
A5: 75897401 | B5: 42 | C5: 1 | D5: 280198.02 | E5: 283000 | F5: 2024-11-07 02:34:04
A6: 75897357 | B6: 13 | C6: 1 | D6: 281089.11 | E6: 283900 | F6: 2024-11-07 02:34:04
A7: 75893297 | B7: 38 | C7: 1 | D7: 281128.71 | E7: 283940 | F7: 2024-11-07 02:34:04
A8: 75895744 | B8: 27 | C8: 1 | D8: 281138.61 | E8: 283950 | F8: 2024-11-07 02:34:04
A9: 75896768 | B9: 24 | C9: 1 | D9: 281187.13 | E9: 283999 | F9: 2024-11-07 02:34:04
A10: 75893903 | B10: 24 | C10: 1 | D10: 281188.02 | E10: 283999.9 | F10: 2024-11-07 02:34:04
A11: 75874131 | B11: 27 | C11: 1 | D11: 281188.12 | E11: 284000 | F11: 2024-11-07 02:34:04
A12: 75890564 | B12: 24 | C12: 1 | D12: 281188.12 | E12: 284000 | F12: 2024-11-07 02:34:04
A13: 75893614 | B13: 35 | C13: 1 | D13: 278431.37 | E13: 284000 | F13: 2024-11-07 02:34:04
... A31: 75882466 | B31: 70 | C31: 1 | D31: 285701.61 | E31: 288558.63 | F31: 2024-11-07 02:34:04

Sheet HQ4 Offers
A1: id | B1: country_id | C1: amount | D1: net | E1: gross | F1: added
A2: 75888133 | B2: 38 | C2: 3 | D2: 196039.6 | E2: 198000 | F2: 2024-11-07 02:34:04
A3: 75880567 | B3: 29 | C3: 1 | D3: 196039.6 | E3: 198000 | F3: 2024-11-07 02:34:04
A4: 75884555 | B4: 29 | C4: 1 | D4: 196039.6 | E4: 198000 | F4: 2024-11-07 02:34:04
A5: 75885794 | B5: 53 | C5: 1 | D5: 196039.6 | E5: 198000 | F5: 2024-11-07 02:34:04
A6: 75892028 | B6: 9 | C6: 1 | D6: 196039.6 | E6: 198000 | F6: 2024-11-07 02:34:03
A7: 75847280 | B7: 36 | C7: 1 | D7: 190876.72 | E7: 198511.79 | F7: 2024-11-07 02:34:04
A8: 75848796 | B8: 70 | C8: 1 | D8: 196546.33 | E8: 198511.79 | F8: 2024-11-07 02:34:04
A9: 75474819 | B9: 77 | C9: 3 | D9: 195097.84 | E9: 198999.8 | F9: 2024-11-07 02:34:04
A10: 75845455 | B10: 10 | C10: 2 | D10: 197029.7 | E10: 199000 | F10: 2024-11-07 02:34:03
A11: 75876791 | B11: 10 | C11: 1 | D11: 197029.7 | E11: 199000 | F11: 2024-11-07 02:34:03
A12: 75897465 | B12: 65 | C12: 1 | D12: 197029.7 | E12: 199000 | F12: 2024-11-07 02:34:04
A13: 75856884 | B13: 47 | C13: 3 | D13: 197640.63 | E13: 199617.04 | F13: 2024-11-07 02:34:04
... A31: 75895685 | B31: 35 | C31: 1 | D31: 197049.02 | E31: 200990 | F31: 2024-11-07 02:34:04

Sheet HQ2 Offers
A1: id | B1: country_id | C1: amount | D1: net | E1: gross | F1: added
A2: 75871947 | B2: 14 | C2: 17 | D2: 47303.96 | E2: 47777 | F2: 2024-11-07 02:34:04
A3: 75085411 | B3: 14 | C3: 8 | D3: 47303.96 | E3: 47777 | F3: 2024-11-07 02:34:04
A4: 75880211 | B4: 76 | C4: 5 | D4: 46841.078 | E4: 47777.9 | F4: 2024-11-07 02:34:04
A5: 75896619 | B5: 24 | C5: 4 | D5: 47326.723 | E5: 47799.99 | F5: 2024-11-07 02:34:04
A6: 75891459 | B6: 24 | C6: 3 | D6: 47326.733 | E6: 47800 | F6: 2024-11-07 02:34:04
A7: 75895763 | B7: 11 | C7: 4 | D7: 47376.238 | E7: 47850 | F7: 2024-11-07 02:34:03
A8: 75883242 | B8: 11 | C8: 1 | D8: 47400.99 | E8: 47875 | F8: 2024-11-07 02:34:03
A9: 75865883 | B9: 24 | C9: 24 | D9: 47415.743 | E9: 47889.9 | F9: 2024-11-07 02:34:04
A10: 75898061 | B10: 49 | C10: 3 | D10: 47423.762 | E10: 47898 | F10: 2024-11-07 02:34:04
A11: 75888956 | B11: 50 | C11: 1 | D11: 47436.634 | E11: 47911 | F11: 2024-11-07 02:34:04
A12: 75850661 | B12: 24 | C12: 8 | D12: 47513.743 | E12: 47988.88 | F12: 2024-11-07 02:34:04
A13: 75706991 | B13: 80 | C13: 5 | D13: 47049.02 | E13: 47990 | F13: 2024-11-07 02:34:04
... A31: 75896279 | B31: 169 | C31: 6 | D31: 47352.941 | E31: 48300 | F31: 2024-11-07 02:34:04

Sheet AQ5 Offers
A1: id | B1: country_id | C1: amount | D1: net | E1: gross | F1: added
A2: 75898125 | B2: 65 | C2: 502 | D2: 1702.9604 | E2: 1719.99 | F2: 2024-11-07 02:34:04
A3: 75897636 | B3: 35 | C3: 270 | D3: 1686.2745 | E3: 1720 | F3: 2024-11-07 02:34:04
A4: 75898029 | B4: 42 | C4: 308 | D4: 1691.1765 | E4: 1725 | F4: 2024-11-07 02:34:04
A5: 75897106 | B5: 31 | C5: 152 | D5: 1707.9208 | E5: 1725 | F5: 2024-11-07 02:34:04
A6: 75897509 | B6: 35 | C6: 49 | D6: 1691.1765 | E6: 1725 | F6: 2024-11-07 02:34:04
A7: 75896592 | B7: 11 | C7: 40 | D7: 1707.9208 | E7: 1725 | F7: 2024-11-07 02:34:03
A8: 75897511 | B8: 42 | C8: 38 | D8: 1691.1765 | E8: 1725 | F8: 2024-11-07 02:34:04
A9: 75894713 | B9: 11 | C9: 31 | D9: 1707.9208 | E9: 1725 | F9: 2024-11-07 02:34:03
A10: 75898034 | B10: 1 | C10: 306 | D10: 1694.1176 | E10: 1728 | F10: 2024-11-07 02:34:03
A11: 75895228 | B11: 10 | C11: 86 | D11: 1710.8911 | E11: 1728 | F11: 2024-11-07 02:34:03
A12: 75896971 | B12: 24 | C12: 20300 | D12: 1711.8812 | E12: 1729 | F12: 2024-11-07 02:34:04
A13: 75896617 | B13: 24 | C13: 1049 | D13: 1711.8812 | E13: 1729 | F13: 2024-11-07 02:34:04
... A31: 75885902 | B31: 65 | C31: 121 | D31: 1713.7624 | E31: 1730.9 | F31: 2024-11-07 02:34:04

Sheet AQ4 Offers
A1: id | B1: country_id | C1: amount | D1: net | E1: gross | F1: added
A2: 75874642 | B2: 70 | C2: 53 | D2: 1237.6238 | E2: 1250 | F2: 2024-11-07 02:34:04
A3: 75801058 | B3: 78 | C3: 337 | D3: 1366.3366 | E3: 1380 | F3: 2024-11-07 02:34:04
A4: 75880679 | B4: 42 | C4: 934 | D4: 1376.2376 | E4: 1390 | F4: 2024-11-07 02:34:04
A5: 75894071 | B5: 29 | C5: 10 | D5: 1376.2376 | E5: 1390 | F5: 2024-11-07 02:34:04
A6: 75482001 | B6: 9 | C6: 585 | D6: 1386.1386 | E6: 1400 | F6: 2024-11-07 02:34:03
A7: 75880077 | B7: 42 | C7: 350 | D7: 1386.1386 | E7: 1400 | F7: 2024-11-07 02:34:04
A8: 75027030 | B8: 81 | C8: 2 | D8: 1386.1386 | E8: 1400 | F8: 2024-11-07 02:34:04
A9: 75025939 | B9: 81 | C9: 2 | D9: 1386.1386 | E9: 1400 | F9: 2024-11-07 02:34:04
A10: 75707852 | B10: 65 | C10: 1 | D10: 1386.1386 | E10: 1400 | F10: 2024-11-07 02:34:04
A11: 75881358 | B11: 78 | C11: 250 | D11: 1376.6667 | E11: 1404.2 | F11: 2024-11-07 02:34:04
A12: 75881366 | B12: 70 | C12: 250 | D12: 1376.6667 | E12: 1404.2 | F12: 2024-11-07 02:34:04
A13: 75678136 | B13: 81 | C13: 211 | D13: 1386.5686 | E13: 1414.3 | F13: 2024-11-07 02:34:04
... A31: 75881406 | B31: 164 | C31: 250 | D31: 1445.4902 | E31: 1474.4 | F31: 2024-11-07 02:34:04

Sheet AQ3 Offers
A1: id | B1: country_id | C1: amount | D1: net | E1: gross | F1: added
A2: 75482000 | B2: 9 | C2: 657 | D2: 1118.8119 | E2: 1130 | F2: 2024-11-07 02:34:03
A3: 75892978 | B3: 42 | C3: 516 | D3: 1118.8119 | E3: 1130 | F3: 2024-11-07 02:34:04
A4: 75896020 | B4: 82 | C4: 53 | D4: 1128.7129 | E4: 1140 | F4: 2024-11-07 02:34:04
A5: 75458175 | B5: 9 | C5: 226 | D5: 1119.1176 | E5: 1141.5 | F5: 2024-11-07 02:34:03
A6: 75481924 | B6: 40 | C6: 100 | D6: 1175.2475 | E6: 1187 | F6: 2024-11-07 02:34:04
A7: 75717131 | B7: 28 | C7: 6 | D7: 1178.2178 | E7: 1190 | F7: 2024-11-07 02:34:04
A8: 75754403 | B8: 58 | C8: 276 | D8: 1175.098 | E8: 1198.6 | F8: 2024-11-07 02:34:04
A9: 75678023 | B9: 81 | C9: 253 | D9: 1175.098 | E9: 1198.6 | F9: 2024-11-07 02:34:04
A10: 75612863 | B10: 29 | C10: 240 | D10: 1175.098 | E10: 1198.6 | F10: 2024-11-07 02:34:04
A11: 75472831 | B11: 54 | C11: 221 | D11: 1175.098 | E11: 1198.6 | F11: 2024-11-07 02:34:04
A12: 75667458 | B12: 35 | C12: 10 | D12: 1175.098 | E12: 1198.6 | F12: 2024-11-07 02:34:04
A13: 75536945 | B13: 36 | C13: 232 | D13: 1178.8679 | E13: 1249.6 | F13: 2024-11-07 02:34:04
... A31: 75881228 | B31: 76 | C31: 296 | D31: 1497.451 | E31: 1527.4 | F31: 2024-11-07 02:34:04

Sheet AQ2 Offers
A1: id | B1: country_id | C1: amount | D1: net | E1: gross | F1: added
A2: 75869799 | B2: 71 | C2: 62 | D2: 787.1287 | E2: 795 | F2: 2024-11-07 02:34:04
A3: 75865913 | B3: 35 | C3: 516 | D3: 792.0792 | E3: 800 | F3: 2024-11-07 02:34:04
A4: 75883760 | B4: 24 | C4: 100 | D4: 865.2178 | E4: 873.87 | F4: 2024-11-07 02:34:04
A5: 75883330 | B5: 24 | C5: 74 | D5: 865.2277 | E5: 873.88 | F5: 2024-11-07 02:34:04
A6: 75777337 | B6: 24 | C6: 8 | D6: 866.3366 | E6: 875 | F6: 2024-11-07 02:34:04
A7: 75481997 | B7: 9 | C7: 398 | D7: 875.2376 | E7: 883.99 | F7: 2024-11-07 02:34:03
A8: 75845787 | B8: 42 | C8: 60 | D8: 891.0891 | E8: 900 | F8: 2024-11-07 02:34:04
A9: 75872414 | B9: 9 | C9: 17 | D9: 891.0891 | E9: 900 | F9: 2024-11-07 02:34:03
A10: 75880676 | B10: 42 | C10: 1000 | D10: 900.9901 | E10: 910 | F10: 2024-11-07 02:34:04
A11: 73841260 | B11: 166 | C11: 2 | D11: 900 | E11: 918 | F11: 2024-11-07 02:34:04
A12: 75888269 | B12: 33 | C12: 80 | D12: 952.6139 | E12: 962.14 | F12: 2024-11-07 02:34:04
A13: 75888266 | B13: 72 | C13: 80 | D13: 943.2745 | E13: 962.14 | F13: 2024-11-07 02:34:04
... A31: 75881136 | B31: 76 | C31: 316 | D31: 946.3725 | E31: 965.3 | F31: 2024-11-07 02:34:04

Sheet AQ1 Offers
A1: id | B1: country_id | C1: amount | D1: net | E1: gross | F1: added
A2: 75898117 | B2: 65 | C2: 7 | D2: 652.4158 | E2: 658.94 | F2: 2024-11-07 02:34:04
A3: 75898109 | B3: 65 | C3: 8 | D3: 652.4257 | E3: 658.95 | F3: 2024-11-07 02:34:04
A4: 75896794 | B4: 35 | C4: 83 | D4: 652.4752 | E4: 659 | F4: 2024-11-07 02:34:04
A5: 75892223 | B5: 35 | C5: 3 | D5: 652.4752 | E5: 659 | F5: 2024-11-07 02:34:04
A6: 75897710 | B6: 65 | C6: 14 | D6: 653.297 | E6: 659.83 | F6: 2024-11-07 02:34:04
A7: 75891207 | B7: 65 | C7: 25 | D7: 653.4455 | E7: 659.98 | F7: 2024-11-07 02:34:04
A8: 75887210 | B8: 35 | C8: 395 | D8: 653.4554 | E8: 659.99 | F8: 2024-11-07 02:34:04
A9: 75894073 | B9: 29 | C9: 10 | D9: 658.4158 | E9: 665 | F9: 2024-11-07 02:34:04
A10: 75893153 | B10: 27 | C10: 55 | D10: 662.3762 | E10: 669 | F10: 2024-11-07 02:34:04
A11: 75882423 | B11: 24 | C11: 490 | D11: 663.3663 | E11: 670 | F11: 2024-11-07 02:34:04
A12: 75884992 | B12: 65 | C12: 101 | D12: 691.0891 | E12: 698 | F12: 2024-11-07 02:34:04
A13: 75886063 | B13: 42 | C13: 50 | D13: 691.0891 | E13: 698 | F13: 2024-11-07 02:34:04
... A31: 74435237 | B31: 42 | C31: 817 | D31: 709.049 | E31: 723.23 | F31: 2024-11-07 02:34:04

Sheet General information
B1: Citizenship Country
B2: Average Salary | E2: Number of Tickets | F2: {=SUM(Houses!C5:C9)+SUM(Houses!C15:C19)+SUM(Houses!C25:C29)+SUM(Houses!C35:C39)+SUM(Weapons!D17:D23)+SUM(Weapons!D39:D43)+SUM(Weapons!D5:D11)+SUM(Weapons!D29:D33)+SUM(Food!D5:D11)+SUM(Food!D17:D23)+SUM(Food!D29:D33)+SUM(Food!D39:D43+SUM(Airplanes!C5:C9)+SUM(Airplanes!C15:C19)+SUM(Airplanes!C25:C29)+SUM(Airplanes!C35:C39))} -> 0 | H2: Tycoon Pack | I2: 0 | K2: Management Companies | L2: =SUM(Weapons!C5:C11)+SUM(Weapons!C17:C23)+SUM(Weapons!C29:C33)+SUM(Weapons!C39:C43)+SUM(Food!C5:C11)+SUM(Food!C17:C23)+SUM(Food!C29:C33)+SUM(Food!C39:C43) -> 0 | N2: Gold Price | O2: {=Gold_Price[]} -> 994.999
B4: Houses | J4: Airplanes
G5: =C5 -> 0 | H5: =D5 -> 0 | O5: =K5 -> 0 | P5: =L5 -> 0
B7: Company | C7: Pollution | D7: Pollution | F7: Productivity/Test | G7: =(100+$G$8+$G$9+$G$10)-G11 -> 100 | H7: =(100+$H$8+$H$9+$H$10)-H11 -> 100 | J7: Company | K7: Pollution | L7: Pollution | N7: Productivity/Test | O7: =(100+$O$8+$O$9+$O$10)-O11 -> 100 | P7: =(100+$P$8+$P$9+$P$10)-P11 -> 100
B8: Raw Material | C8: =IFERROR(VLOOKUP($C$6,'Regions'!$B$2:$BT$575,18,FALSE),0) -> 0 | D8: =IFERROR(VLOOKUP($D$6,'Regions'!$B$2:$BT$575,18,FALSE),0) -> 0 | F8: Country Bonus | G8: =IFERROR(VLOOKUP($C$5,'Countries'!$A$2:$AL$75,9,FALSE)*100,0) -> 0 | H8: =IFERROR(VLOOKUP($D$5,'Countries'!$A$2:$AL$75,9,FALSE)*100,0) -> 0 | J8: Raw Material | K8: =IFERROR(VLOOKUP($K$6,'Regions'!$B$2:$BT$575,26,FALSE),0) -> 0 | L8: =IFERROR(VLOOKUP($L$6,'Regions'!$B$2:$BT$575,26,FALSE),0) -> 0 | N8: Country Bonus | O8: =IFERROR(VLOOKUP($K$5,'Countries'!$A$2:$AL$75,10,FALSE)*100,0) -> 0 | P8: =IFERROR(VLOOKUP($L$5,'Countries'!$A$2:$AL$75,10,FALSE)*100,0) -> 0
B9: Q1 | C9: =IFERROR(VLOOKUP($C$6,'Regions'!$B$2:$BT$575,19,FALSE),0) -> 0 | D9: =IFERROR(VLOOKUP($D$6,'Regions'!$B$2:$BT$575,19,FALSE),0) -> 0 | F9: Region Bonus | G9: =IFERROR(VLOOKUP($C$6,'Regions'!$B$2:$BT$575,68,FALSE),0) -> 0 | H9: =IFERROR(VLOOKUP($D$6,'Regions'!$B$2:$BT$575,68,FALSE),0) -> 0 | J9: Q1 | K9: =IFERROR(VLOOKUP($K$6,'Regions'!$B$2:$BT$575,27,FALSE),0) -> 0 | L9: =IFERROR(VLOOKUP($L$6,'Regions'!$B$2:$BT$575,27,FALSE),0) -> 0 | N9: Region Bonus | O9: =IFERROR(VLOOKUP($K$6,'Regions'!$B$2:$BT$575,69,FALSE),0) -> 0 | P9: =IFERROR(VLOOKUP($L$6,'Regions'!$B$2:$BT$575,69,FALSE),0) -> 0
B10: Q2 | C10: =IFERROR(VLOOKUP($C$6,'Regions'!$B$2:$BT$575,20,FALSE),0) -> 0 | D10: =IFERROR(VLOOKUP($D$6,'Regions'!$B$2:$BT$575,20,FALSE),0) -> 0 | F10: Booster | G10: =IF('General information'!$I$2=1,20,IF('General information'!$I$2=2,26,0)) -> 0 | H10: =IF('General information'!$I$2=1,20,IF('General information'!$I$2=2,26,0)) -> 0 | J10: Q2 | K10: =IFERROR(VLOOKUP($K$6,'Regions'!$B$2:$BT$575,28,FALSE),0) -> 0 | L10: =IFERROR(VLOOKUP($L$6,'Regions'!$B$2:$BT$575,28,FALSE),0) -> 0 | N10: Booster | O10: =IF('General information'!$I$2=1,20,IF('General information'!$I$2=2,26,0)) -> 0 | P10: =IF('General information'!$I$2=1,20,IF('General information'!$I$2=2,26,0)) -> 0
B11: Q3 | C11: =IFERROR(VLOOKUP($C$6,'Regions'!$B$2:$BT$575,21,FALSE),0) -> 0 | D11: =IFERROR(VLOOKUP($D$6,'Regions'!$B$2:$BT$575,21,FALSE),0) -> 0 | F11: Pollution | J11: Q3 | K11: =IFERROR(VLOOKUP($K$6,'Regions'!$B$2:$BT$575,29,FALSE),0) -> 0 | L11: =IFERROR(VLOOKUP($L$6,'Regions'!$B$2:$BT$575,29,FALSE),0) -> 0 | N11: Pollution
B12: Q4 | C12: =IFERROR(VLOOKUP($C$6,'Regions'!$B$2:$BT$575,22,FALSE),0) -> 0 | D12: =IFERROR(VLOOKUP($D$6,'Regions'!$B$2:$BT$575,22,FALSE),0) -> 0 | J12: Q4 | K12: =IFERROR(VLOOKUP($K$6,'Regions'!$B$2:$BT$575,30,FALSE),0) -> 0 | L12: =IFERROR(VLOOKUP($L$6,'Regions'!$B$2:$BT$575,30,FALSE),0) -> 0
B13: Q5 | C13: =IFERROR(VLOOKUP($C$6,'Regions'!$B$2:$BT$575,23,FALSE),0) -> 0 | D13: =IFERROR(VLOOKUP($D$6,'Regions'!$B$2:$BT$575,23,FALSE),0) -> 0 | J13: Q5 | K13: =IFERROR(VLOOKUP($K$6,'Regions'!$B$2:$BT$575,31,FALSE),0) -> 0 | L13: =IFERROR(VLOOKUP($L$6,'Regions'!$B$2:$BT$575,31,FALSE),0) -> 0
B14: Q6 | C14: =IFERROR(VLOOKUP($C$6,'Regions'!$B$2:$BT$575,24,FALSE),0) -> 0 | D14: =IFERROR(VLOOKUP($D$6,'Regions'!$B$2:$BT$575,24,FALSE),0) -> 0 | G14: TAX - VAT | H14: 1 | J14: Q6 | K14: =IFERROR(VLOOKUP($K$6,'Regions'!$B$2:$BT$575,32,FALSE),0) -> 0 | L14: =IFERROR(VLOOKUP($L$6,'Regions'!$B$2:$BT$575,32,FALSE),0) -> 0 | O14: TAX - VAT | P14: 1
B15: Q7 | C15: =IFERROR(VLOOKUP($C$6,'Regions'!$B$2:$BT$575,25,FALSE),0) -> 0 | D15: =IFERROR(VLOOKUP($D$6,'Regions'!$B$2:$BT$575,25,FALSE),0) -> 0 | G15: TAX - Import | H15: 0 | J15: Q7 | K15: =IFERROR(VLOOKUP($K$6,'Regions'!$B$2:$BT$575,33,FALSE),0) -> 0 | L15: =IFERROR(VLOOKUP($L$6,'Regions'!$B$2:$BT$575,33,FALSE),0) -> 0 | O15: TAX - Import | P15: 0
B18: Weapons | J18: Food
G19: =C19 -> 0 | H19: =D19 -> 0 | O19: =K19 -> 0 | P19: =L19 -> 0
B21: Company | C21: Pollution | D21: Pollution | F21: Productivity/Test | G21: =(100+$G$22+$G$23+$G$24)-G25 -> 100 | H21: =(100+$H$22+$H$23+$H$24)-H25 -> 100 | J21: Company | K21: Pollution | L21: Pollution | N21: Productivity/Test | O21: =(100+$O$22+$O$23+$O$24)-O25 -> 100 | P21: =(100+$P$22+$P$23+$P$24)-P25 -> 100
B22: Raw Material | C22: =IFERROR(VLOOKUP($C$20,'Regions'!$B$2:$BT$575,10,FALSE),0) -> 0 | D22: =IFERROR(VLOOKUP($D$20,'Regions'!$B$2:$BT$575,10,FALSE),0) -> 0 | F22: Country Bonus | G22: =IFERROR(VLOOKUP($C$19,'Countries'!$A$2:$AL$75,8,FALSE)*100,0) -> 0 | H22: =IFERROR(VLOOKUP($D$19,'Countries'!$A$2:$AL$75,8,FALSE)*100,0) -> 0 | J22: Raw Material | K22: =IFERROR(VLOOKUP($K$20,'Regions'!$B$2:$BT$575,2,FALSE),0) -> 0 | L22: =IFERROR(VLOOKUP($L$20,'Regions'!$B$2:$BT$575,2,FALSE),0) -> 0 | N22: Country Bonus | O22: =IFERROR(VLOOKUP($K$19,'Countries'!$A$2:$AL$75,7,FALSE)*100,0) -> 0 | P22: =IFERROR(VLOOKUP($L$19,'Countries'!$A$2:$AL$75,7,FALSE)*100,0) -> 0
B23: Q1 | C23: =IFERROR(VLOOKUP($C$20,'Regions'!$B$2:$BT$575,11,FALSE),0) -> 0 | D23: =IFERROR(VLOOKUP($D$20,'Regions'!$B$2:$BT$575,11,FALSE),0) -> 0 | F23: Region Bonus | G23: =IFERROR(VLOOKUP($C$20,'Regions'!$B$2:$BT$575,67,FALSE),0) -> 0 | H23: =IFERROR(VLOOKUP($D$20,'Regions'!$B$2:$BT$575,67,FALSE),0) -> 0 | J23: Q1 | K23: =IFERROR(VLOOKUP($K$20,'Regions'!$B$2:$BT$575,3,FALSE),0) -> 0 | L23: =IFERROR(VLOOKUP($L$20,'Regions'!$B$2:$BT$575,3,FALSE),0) -> 0 | N23: Region Bonus | O23: =IFERROR(VLOOKUP($K$20,'Regions'!$B$2:$BT$575,66,FALSE),0) -> 0 | P23: =IFERROR(VLOOKUP($L$20,'Regions'!$B$2:$BT$575,66,FALSE),0) -> 0
B24: Q2 | C24: =IFERROR(VLOOKUP($C$20,'Regions'!$B$2:$BT$575,12,FALSE),0) -> 0 | D24: =IFERROR(VLOOKUP($D$20,'Regions'!$B$2:$BT$575,12,FALSE),0) -> 0 | F24: Booster | G24: =IF('General information'!$I$2=1,20,IF('General information'!$I$2=2,26,0)) -> 0 | H24: =IF('General information'!$I$2=1,20,IF('General information'!$I$2=2,26,0)) -> 0 | J24: Q2 | K24: =IFERROR(VLOOKUP($K$20,'Regions'!$B$2:$BT$575,4,FALSE),0) -> 0 | L24: =IFERROR(VLOOKUP($L$20,'Regions'!$B$2:$BT$575,4,FALSE),0) -> 0 | N24: Booster | O24: =IF('General information'!$I$2=1,20,IF('General information'!$I$2=2,26,0)) -> 0 | P24: =IF('General information'!$I$2=1,20,IF('General information'!$I$2=2,26,0)) -> 0
B25: Q3 | C25: =IFERROR(VLOOKUP($C$20,'Regions'!$B$2:$BT$575,13,FALSE),0) -> 0 | D25: =IFERROR(VLOOKUP($D$20,'Regions'!$B$2:$BT$575,13,FALSE),0) -> 0 | F25: Pollution | J25: Q3 | K25: =IFERROR(VLOOKUP($K$20,'Regions'!$B$2:$BT$575,5,FALSE),0) -> 0 | L25: =IFERROR(VLOOKUP($L$20,'Regions'!$B$2:$BT$575,5,FALSE),0) -> 0 | N25: Pollution
B26: Q4 | C26: =IFERROR(VLOOKUP($C$20,'Regions'!$B$2:$BT$575,14,FALSE),0) -> 0 | D26: =IFERROR(VLOOKUP($D$20,'Regions'!$B$2:$BT$575,14,FALSE),0) -> 0 | J26: Q4 | K26: =IFERROR(VLOOKUP($K$20,'Regions'!$B$2:$BT$575,6,FALSE),0) -> 0 | L26: =IFERROR(VLOOKUP($L$20,'Regions'!$B$2:$BT$575,6,FALSE),0) -> 0
B27: Q5 | C27: =IFERROR(VLOOKUP($C$20,'Regions'!$B$2:$BT$575,15,FALSE),0) -> 0 | D27: =IFERROR(VLOOKUP($D$20,'Regions'!$B$2:$BT$575,15,FALSE),0) -> 0 | J27: Q5 | K27: =IFERROR(VLOOKUP($K$20,'Regions'!$B$2:$BT$575,7,FALSE),0) -> 0 | L27: =IFERROR(VLOOKUP($L$20,'Regions'!$B$2:$BT$575,7,FALSE),0) -> 0
B28: Q6 | C28: =IFERROR(VLOOKUP($C$20,'Regions'!$B$2:$BT$575,16,FALSE),0) -> 0 | D28: =IFERROR(VLOOKUP($D$20,'Regions'!$B$2:$BT$575,16,FALSE),0) -> 0 | J28: Q6 | K28: =IFERROR(VLOOKUP($K$20,'Regions'!$B$2:$BT$575,8,FALSE),0) -> 0 | L28: =IFERROR(VLOOKUP($L$20,'Regions'!$B$2:$BT$575,8,FALSE),0) -> 0
B29: Q7 | C29: =IFERROR(VLOOKUP($C$20,'Regions'!$B$2:$BT$575,17,FALSE),0) -> 0 | D29: =IFERROR(VLOOKUP($D$20,'Regions'!$B$2:$BT$575,17,FALSE),0) -> 0 | J29: Q7 | K29: =IFERROR(VLOOKUP($K$20,'Regions'!$B$2:$BT$575,9,FALSE),0) -> 0 | L29: =IFERROR(VLOOKUP($L$20,'Regions'!$B$2:$BT$575,9,FALSE),0) -> 0
C31: Average Salary | D31: Tax | E31: Manager Tax | K31: Average Salary | L31: Tax | M31: Manager Tax
B32: =C19 -> 0 | C32: =IFERROR(VLOOKUP($C$19,'Countries'!$A$2:$AL$75,38,FALSE),0) -> 0 | D32: =IFERROR(VLOOKUP($C$19,'Countries'!$A$2:$AL$75,14,FALSE)*100,0) -> 0 | E32: =C32*D32% -> 0 | J32: =K19 -> 0 | K32: =IFERROR(VLOOKUP($K$19,'Countries'!$A$2:$AL$75,38,FALSE),0) -> 0 | L32: =IFERROR(VLOOKUP($K$19,'Countries'!$A$2:$AL$75,11,FALSE)*100,0) -> 0 | M32: =K32*L32% -> 0
B33: =D19 -> 0 | C33: =IFERROR(VLOOKUP($D$19,'Countries'!$A$2:$AL$75,38,FALSE),0) -> 0 | D33: =IFERROR(VLOOKUP($D$19,'Countries'!$A$2:$AL$75,14,FALSE)*100,0) -> 0 | E33: =C33*D33% -> 0 | G33: TAX - VAT | H33: 1 | J33: =L19 -> 0 | K33: =IFERROR(VLOOKUP($L$19,'Countries'!$A$2:$AL$75,38,FALSE),0) -> 0 | L33: =IFERROR(VLOOKUP($L$19,'Countries'!$A$2:$AL$75,11,FALSE)*100,0) -> 0 | M33: =K33*L33% -> 0 | O33: TAX - VAT | P33: 1
B34: Country of Citizenship | C34: =IFERROR(VLOOKUP($C$1,'Countries'!$A$2:$AL$75,38,FALSE),0) -> 0 | D34: =IFERROR(VLOOKUP($C$1,'Countries'!$A$2:$AL$75,14,FALSE)*100,0) -> 0 | E34: =C34*D34% -> 0 | G34: TAX - Import | H34: 0 | J34: Country of Citizenship | K34: =IFERROR(VLOOKUP($C$1,'Countries'!$A$2:$AL$75,38,FALSE),0) -> 0 | L34: =IFERROR(VLOOKUP($C$1,'Countries'!$A$2:$AL$75,11,FALSE)*100,0) -> 0 | M34: =K34*L34% -> 0 | O34: TAX - Import | P34: 0
B36: API KEY

Sheet Houses
B2: Holding 1
B3: Houses | C3: Employees | D3: Production | E3: Raw/Day | F3: Time (Days) | G3: Number of Houses (Day) | H3: Houses by Time | I3: Total Salaries | J3: Raw Material per House | K3: Raw Material Cost | L3: Unit Cost - Without Taxes | M3: Unit Cost - With Taxes | N3: Revenue | O3: Profit/Loss | P3: % Profit/Loss - Per House
B4: Quality
B5: Q1 | D5: =C5*(20*((100+'General information'!$G$8+'General information'!$G$9+'General information'!$G$10)-'General information'!$C$9)/100) -> 0 | E5: =(C5*(20*((100+'General information'!$G$8+'General information'!$G$9+'General information'!$G$10)-'General information'!C9)))/1000 -> 0 | F5: =IF(ISERROR(100/D5),0,100/D5) -> 0 | G5: =IFERROR(1/F5,0) -> 0 | H5: =IF((G5*F5)<1,G5*F5*G5,1)*IF(G5<1,1,INT(G5)) -> 0 | I5: =IF(F5=1,C5*'General information'!$C$2,IF(F5<0,(H5)*C5*'General information'!$C$2,(F5*H5)*C5*'General information'!$C$2)) -> 0 | J5: =10*H5 -> 0 | K5: =J5*Houses!$N$24 -> 0 | L5: =IFERROR((I5)/H5+IF(I5=0,0,K5/H5),0) -> 0 | M5: =L5+IF(L5=0,0,$O$25) -> 0 | N5: =($N$25-$O$25)*H5 -> 0 | O5: =(N5-(L5*H5)) -> 0 | P5: =IF(D5=0,0,(IF((ISERROR(($N$25-$O$25)/L5)),0,($N$25-$O$25)/L5)-1)) -> 0
B6: Q2 | D6: =C6*(10*((100+'General information'!$G$8+'General information'!$G$9+'General information'!$G$10)-'General information'!$C$10)/100) -> 0 | E6: =(C6*(20*((100+'General information'!$G$8+'General information'!$G$9+'General information'!$G$10)-'General information'!C10)))/1000 -> 0 | F6: =IF(ISERROR(100/D6),0,100/D6) -> 0 | G6: =IFERROR(1/F6,0) -> 0 | H6: =IF((G6*F6)<1,G6*F6*G6,1)*IF(G6<1,1,INT(G6)) -> 0 | I6: =IF(F6=1,C6*'General information'!$C$2,IF(F6<0,(H6)*C6*'General information'!$C$2,(F6*H6)*C6*'General information'!$C$2)) -> 0 | J6: =20*H6 -> 0 | K6: =J6*Houses!$N$24 -> 0 | L6: =IFERROR((I6)/H6+IF(I6=0,0,K6/H6),0) -> 0 | M6: =L6+IF(L6=0,0,$O$26) -> 0 | N6: =($N$26-$O$26)*H6 -> 0 | O6: =(N6-(L6*H6)) -> 0 | P6: =IF(D6=0,0,(IF((ISERROR(($N$26-$O$26)/L6)),0,($N$26-$O$26)/L6)-1)) -> 0
B7: Q3 | D7: =C7*(5*((100+'General information'!$G$8+'General information'!$G$9+'General information'!$G$10)-'General information'!$C$11)/100) -> 0 | E7: =(C7*(20*((100+'General information'!$G$8+'General information'!$G$9+'General information'!$G$10)-'General information'!C11)))/1000 -> 0 | F7: =IF(ISERROR(100/D7),0,100/D7) -> 0 | G7: =IFERROR(1/F7,0) -> 0 | H7: =IF((G7*F7)<1,G7*F7*G7,1)*IF(G7<1,1,INT(G7)) -> 0 | I7: =IF(F7=1,C7*'General information'!$C$2,IF(F7<0,(H7)*C7*'General information'!$C$2,(F7*H7)*C7*'General information'!$C$2)) -> 0 | J7: =40*H7 -> 0 | K7: =J7*Houses!$N$24 -> 0 | L7: =IFERROR((I7)/H7+IF(I7=0,0,K7/H7),0) -> 0 | M7: =L7+IF(L7=0,0,$O$27) -> 0 | N7: =($N$27-$O$27)*H7 -> 0 | O7: =(N7-(L7*H7)) -> 0 | P7: =IF(D7=0,0,(IF((ISERROR(($N$27-$O$27)/L7)),0,($N$27-$O$27)/L7)-1)) -> 0
B8: Q4 | D8: =C8*(2.5*((100+'General information'!$G$8+'General information'!$G$9+'General information'!$G$10)-'General information'!$C$12)/100) -> 0 | E8: =(C8*(20*((100+'General information'!$G$8+'General information'!$G$9+'General information'!$G$10)-'General information'!C12)))/1000 -> 0 | F8: =IF(ISERROR(100/D8),0,100/D8) -> 0 | G8: =IFERROR(1/F8,0) -> 0 | H8: =IF((G8*F8)<1,G8*F8*G8,1)*IF(G8<1,1,INT(G8)) -> 0 | I8: =IF(F8=1,C8*'General information'!$C$2,IF(F8<0,(H8)*C8*'General information'!$C$2,(F8*H8)*C8*'General information'!$C$2)) -> 0 | J8: =80*H8 -> 0 | K8: =J8*Houses!$N$24 -> 0 | L8: =IFERROR((I8)/H8+IF(I8=0,0,K8/H8),0) -> 0 | M8: =L8+IF(L8=0,0,$O$28) -> 0 | N8: =($N$28-$O$28)*H8 -> 0 | O8: =(N8-(L8*H8)) -> 0 | P8: =IF(D8=0,0,(IF((ISERROR(($N$28-$O$28)/L8)),0,($N$28-$O$28)/L8)-1)) -> 0
B9: Q5 | D9: =C9*(1.6666*((100+'General information'!$G$8+'General information'!$G$9+'General information'!$G$10)-'General information'!$C$13)/100) -> 0 | E9: =(C9*(20*((100+'General information'!$G$8+'General information'!$G$9+'General information'!$G$10)-'General information'!C13)))/1000 -> 0 | F9: =IF(ISERROR(100/D9),0,100/D9) -> 0 | G9: =IFERROR(1/F9,0) -> 0 | H9: =IF((G9*F9)<1,G9*F9*G9,1)*IF(G9<1,1,INT(G9)) -> 0 | I9: =IF(F9=1,C9*'General information'!$C$2,IF(F9<0,(H9)*C9*'General information'!$C$2,(F9*H9)*C9*'General information'!$C$2)) -> 0 | J9: =120*H9 -> 0 | K9: =J9*Houses!$N$24 -> 0 | L9: =IFERROR((I9)/H9+IF(I9=0,0,K9/H9),0) -> 0 | M9: =L9+IF(L9=0,0,$O$29) -> 0 | N9: =($N$29-$O$29)*H9 -> 0 | O9: =(N9-(L9*H9)) -> 0 | P9: =IF(D9=0,0,(IF((ISERROR(($N$29-$O$29)/L9)),0,($N$29-$O$29)/L9)-1)) -> 0
B10: Total | E10: =SUM(E5:E9) -> 0 | I10: =SUM(I5:I9) -> 0 | J10: =SUM(J5:J9) -> 0 | K10: =SUM(K5:K9) -> 0 | L10: =(L5*H5+L6*H6+L7*H7+L8*H8+L9*H9) -> 0 | N10: =SUM(N5:N9) -> 0 | O10: =SUM(O5:O9) -> 0
B12: Holding 2
B13: Houses | C13: Employees | D13: Production | E13: Raw/Day | F13: Time (Days) | G13: Number of Houses (Day) | H13: Houses by Time | I13: Total Salaries | J13: Raw Material per House | K13: Raw Material Cost | L13: Unit Cost - Without Taxes | M13: Unit Cost - With Taxes | N13: Revenue | O13: Profit/Loss | P13: % Profit/Loss - Per House
A14: 0 | B14: Quality
B15: Q1 | D15: =C15*(20*((100+'General information'!$H$8+'General information'!$H$9+'General information'!$H$10)-'General information'!$D$9)/100) -> 0 | E15: =($D$15*10*C15)/100 -> 0 | F15: =IF(ISERROR(100/D15),0,100/D15) -> 0 | G15: =IFERROR(1/F15,0) -> 0 | H15: =IF((G15*F15)<1,G15*F15*G15,1)*IF(G15<1,1,INT(G15)) -> 0 | I15: =IF(F15=1,C15*'General information'!$C$2,IF(F15<0,(H15)*C15*'General information'!$C$2,(F15*H15)*C15*'General information'!$C$2)) -> 0 | J15: =10*H15 -> 0 | K15: =J15*Houses!$N$24 -> 0 | L15: =IFERROR((I15)/H15+IF(I15=0,0,K15/H15),0) -> 0 | M15: =L15+IF(L15=0,0,O25) -> 0 | N15: =($N$25-$O$25)*H15 -> 0 | O15: =(N15-(L15*H15)) -> 0 | P15: =IF(D15=0,0,(IF((ISERROR(($N$25-$O$25)/L15)),0,($N$25-$O$25)/L15)-1)) -> 0
B16: Q2 | D16: =C16*(10*((100+'General information'!$H$8+'General information'!$H$9+'General information'!$H$10)-'General information'!$D$10)/100) -> 0 | E16: =(D16*2*C16*10)/100 -> 0 | F16: =IF(ISERROR(100/D16),0,100/D16) -> 0 | G16: =IFERROR(1/F16,0) -> 0 | H16: =IF((G16*F16)<1,G16*F16*G16,1)*IF(G16<1,1,INT(G16)) -> 0 | I16: =IF(F16=1,C16*'General information'!$C$2,IF(F16<0,(H16)*C16*'General information'!$C$2,(F16*H16)*C16*'General information'!$C$2)) -> 0 | J16: =20*H16 -> 0 | K16: =J16*Houses!$N$24 -> 0 | L16: =IFERROR((I16)/H16+IF(I16=0,0,K16/H16),0) -> 0 | M16: =L16+IF(L16=0,0,O25) -> 0 | N16: =($N$26-$O$26)*H16 -> 0 | O16: =(N16-(L16*H16)) -> 0 | P16: =IF(D16=0,0,(IF((ISERROR(($N$26-$O$26)/L16)),0,($N$26-$O$26)/L16)-1)) -> 0
B17: Q3 | D17: =C17*(5*((100+'General information'!$H$8+'General information'!$H$9+'General information'!$H$10)-'General information'!$D$11)/100) -> 0 | E17: =(D17*4*C17*10)/100 -> 0 | F17: =IF(ISERROR(100/D17),0,100/D17) -> 0 | G17: =IFERROR(1/F17,0) -> 0 | H17: =IF((G17*F17)<1,G17*F17*G17,1)*IF(G17<1,1,INT(G17)) -> 0 | I17: =IF(F17=1,C17*'General information'!$C$2,IF(F17<0,(H17)*C17*'General information'!$C$2,(F17*H17)*C17*'General information'!$C$2)) -> 0 | J17: =40*H17 -> 0 | K17: =J17*Houses!$N$24 -> 0 | L17: =IFERROR((I17)/H17+IF(I17=0,0,K17/H17),0) -> 0 | M17: =L17+IF(L17=0,0,N27) -> 0 | N17: =($N$27-$O$27)*H17 -> 0 | O17: =(N17-(L17*H17)) -> 0 | P17: =IF(D17=0,0,(IF((ISERROR(($N$27-$O$27)/L17)),0,($N$27-$O$27)/L17)-1)) -> 0
