Workbook

Sheet General information
B2: Average Salary | E2: Number of Tickets | F2: {=SUM(Houses!C5:C9)+SUM(Houses!C15:C19)+SUM(Houses!C25:C29)+SUM(Houses!C35:C39)+SUM(Weapons!D17:D23)+SUM(Weapons!D39:D43)+SUM(Weapons!D5:D11)+SUM(Weapons!D29:D33)+SUM(Food!D5:D11)+SUM(Food!D17:D23)+SUM(Food!D29:D33)+SUM(Food!D39:D43+SUM(Airplanes!C5:C9)+SUM(Airplanes!C15:C19)+SUM(Airplanes!C25:C29)+SUM(Airplanes!C35:C39))} -> 0 | H2: Tycoon Pack | K2: Management Companies | L2: =SUM(Weapons!C5:C11)+SUM(Weapons!C17:C23)+SUM(Weapons!C29:C33)+SUM(Weapons!C39:C43)+SUM(Food!C5:C11)+SUM(Food!C17:C23)+SUM(Food!C29:C33)+SUM(Food!C39:C43) -> 0 | N2: Gold Price
B4: Houses | J4: Airplanes
C5: Country 1 | D5: Country 2 | G5: Country 1 | H5: Country 2 | K5: Country 1 | L5: Country 2 | O5: Country 1 | P5: Country 2
B6: Company | C6: Pollution | D6: Pollution | F6: Productivity/Test | G6: =(100+$G$7+$G$8+$G$9)-G10 -> 100 | H6: =(100+$H$7+$H$8+$H$9)-H10 -> 100 | J6: Company | K6: Pollution | L6: Pollution | N6: Productivity/Test | O6: =(100+$O$7+$O$8+$O$9)-O10 -> 100 | P6: =(100+$P$7+$P$8+$P$9)-P10 -> 100
B7: Raw Material | F7: Country Bonus | J7: Raw Material | N7: Country Bonus
B8: Q1 | F8: Region Bonus | J8: Q1 | N8: Region Bonus
B9: Q2 | F9: Booster | G9: =IF('General information'!$I$2=1,20,IF('General information'!$I$2=2,26,0)) -> 0 | H9: =IF('General information'!$I$2=1,20,IF('General information'!$I$2=2,26,0)) -> 0 | J9: Q2 | N9: Booster | O9: =IF('General information'!$I$2=1,20,IF('General information'!$I$2=2,26,0)) -> 0 | P9: =IF('General information'!$I$2=1,20,IF('General information'!$I$2=2,26,0)) -> 0
B10: Q3 | F10: Pollution | J10: Q3 | N10: Pollution
B11: Q4 | J11: Q4
B12: Q5 | J12: Q5
B13: Q6 | G13: TAX - VAT | J13: Q6 | O13: TAX - VAT
B14: Q7 | G14: TAX - Import | J14: Q7 | O14: TAX - Import
B17: Weapons | J17: Food
C18: Country 1 | D18: Country 2 | G18: Country 1 | H18: Country 2 | K18: Country 1 | L18: Country 2 | O18: Country 1 | P18: Country 2
B19: Company | C19: Pollution | D19: Pollution | F19: Productivity/Test | G19: =(100+$G$20+$G$21+$G$22)-G23 -> 100 | H19: =(100+$H$20+$H$21+$H$22)-H23 -> 100 | J19: Company | K19: Pollution | L19: Pollution | N19: Productivity/Test | O19: =(100+$O$20+$O$21+$O$22)-O23 -> 100 | P19: =(100+$P$20+$P$21+$P$22)-P23 -> 100
B20: Raw Material | F20: Country Bonus | J20: Raw Material | N20: Country Bonus
B21: Q1 | F21: Region Bonus | J21: Q1 | N21: Region Bonus
B22: Q2 | F22: Booster | G22: =IF('General information'!$I$2=1,20,IF('General information'!$I$2=2,26,0)) -> 0 | H22: =IF('General information'!$I$2=1,20,IF('General information'!$I$2=2,26,0)) -> 0 | J22: Q2 | N22: Booster | O22: =IF('General information'!$I$2=1,20,IF('General information'!$I$2=2,26,0)) -> 0 | P22: =IF('General information'!$I$2=1,20,IF('General information'!$I$2=2,26,0)) -> 0
B23: Q3 | F23: Pollution | J23: Q3 | N23: Pollution
B24: Q4 | J24: Q4
B25: Q5 | J25: Q5
B26: Q6 | J26: Q6
B27: Q7 | J27: Q7
C29: Average Salary | D29: Tax | E29: Manager Tax | K29: Average Salary | L29: Tax | M29: Manager Tax
B30: Country 1 | E30: =C30*D30% -> 0 | J30: Country 1 | M30: =K30*L30% -> 0
B31: Country 2 | E31: =C31*D31% -> 0 | G31: TAX - VAT | J31: Country 2 | M31: =K31*L31% -> 0 | O31: TAX - VAT
B32: Country of Citizenship | E32: =C32*D32% -> 0 | G32: TAX - Import | J32: Country of Citizenship | M32: =K32*L32% -> 0 | O32: TAX - Import

Sheet Houses
B2: Holding 1
B3: Houses | C3: Employees | D3: Production | E3: Raw/Day | F3: Time (Days) | G3: Number of Houses (Day) | H3: Houses by Time | I3: Total Salaries | J3: Raw Material per House | K3: Raw Material Cost | L3: Unit Cost - Without Taxes | M3: Unit Cost - With Taxes | N3: Revenue | O3: Profit/Loss | P3: % Profit/Loss - Per House
B4: Quality
B5: Q1 | D5: =C5*(20*((100+'General information'!$G$7+'General information'!$G$8+'General information'!$G$9)-'General information'!$C$8)/100) -> 0 | E5: =(C5*(20*((100+'General information'!$G$7+'General information'!$G$8+'General information'!$G$9)-'General information'!C8)))/1000 -> 0 | F5: =IF(ISERROR(100/D5),0,100/D5) -> 0 | G5: =IFERROR(1/F5,0) -> 0 | H5: =IF((G5*F5)<1,G5*F5*G5,1)*IF(G5<1,1,INT(G5)) -> 0 | I5: =IF(F5=1,C5*'General information'!$C$2,IF(F5<0,(H5)*C5*'General information'!$C$2,(F5*H5)*C5*'General information'!$C$2)) -> 0 | J5: =10*H5 -> 0 | K5: =J5*Houses!$N$24 -> 0 | L5: =IFERROR((I5)/H5+IF(I5=0,0,K5/H5),0) -> 0 | M5: =L5+IF(L5=0,0,$O$25) -> 0 | N5: =($N$25-$O$25)*H5 -> 0 | O5: =(N5-(L5*H5)) -> 0 | P5: =IF(D5=0,0,(IF((ISERROR(($N$25-$O$25)/L5)),0,($N$25-$O$25)/L5)-1)) -> 0
B6: Q2 | D6: =C6*(10*((100+'General information'!$G$7+'General information'!$G$8+'General information'!$G$9)-'General information'!$C$9)/100) -> 0 | E6: =(C6*(20*((100+'General information'!$G$7+'General information'!$G$8+'General information'!$G$9)-'General information'!C9)))/1000 -> 0 | F6: =IF(ISERROR(100/D6),0,100/D6) -> 0 | G6: =IFERROR(1/F6,0) -> 0 | H6: =IF((G6*F6)<1,G6*F6*G6,1)*IF(G6<1,1,INT(G6)) -> 0 | I6: =IF(F6=1,C6*'General information'!$C$2,IF(F6<0,(H6)*C6*'General information'!$C$2,(F6*H6)*C6*'General information'!$C$2)) -> 0 | J6: =20*H6 -> 0 | K6: =J6*Houses!$N$24 -> 0 | L6: =IFERROR((I6)/H6+IF(I6=0,0,K6/H6),0) -> 0 | M6: =L6+IF(L6=0,0,$O$26) -> 0 | N6: =($N$26-$O$26)*H6 -> 0 | O6: =(N6-(L6*H6)) -> 0 | P6: =IF(D6=0,0,(IF((ISERROR(($N$26-$O$26)/L6)),0,($N$26-$O$26)/L6)-1)) -> 0
B7: Q3 | D7: =C7*(5*((100+'General information'!$G$7+'General information'!$G$8+'General information'!$G$9)-'General information'!$C$10)/100) -> 0 | E7: =(C7*(20*((100+'General information'!$G$7+'General information'!$G$8+'General information'!$G$9)-'General information'!C10)))/1000 -> 0 | F7: =IF(ISERROR(100/D7),0,100/D7) -> 0 | G7: =IFERROR(1/F7,0) -> 0 | H7: =IF((G7*F7)<1,G7*F7*G7,1)*IF(G7<1,1,INT(G7)) -> 0 | I7: =IF(F7=1,C7*'General information'!$C$2,IF(F7<0,(H7)*C7*'General information'!$C$2,(F7*H7)*C7*'General information'!$C$2)) -> 0 | J7: =40*H7 -> 0 | K7: =J7*Houses!$N$24 -> 0 | L7: =IFERROR((I7)/H7+IF(I7=0,0,K7/H7),0) -> 0 | M7: =L7+IF(L7=0,0,$O$27) -> 0 | N7: =($N$27-$O$27)*H7 -> 0 | O7: =(N7-(L7*H7)) -> 0 | P7: =IF(D7=0,0,(IF((ISERROR(($N$27-$O$27)/L7)),0,($N$27-$O$27)/L7)-1)) -> 0
B8: Q4 | D8: =C8*(2.5*((100+'General information'!$G$7+'General information'!$G$8+'General information'!$G$9)-'General information'!$C$11)/100) -> 0 | E8: =(C8*(20*((100+'General information'!$G$7+'General information'!$G$8+'General information'!$G$9)-'General information'!C11)))/1000 -> 0 | F8: =IF(ISERROR(100/D8),0,100/D8) -> 0 | G8: =IFERROR(1/F8,0) -> 0 | H8: =IF((G8*F8)<1,G8*F8*G8,1)*IF(G8<1,1,INT(G8)) -> 0 | I8: =IF(F8=1,C8*'General information'!$C$2,IF(F8<0,(H8)*C8*'General information'!$C$2,(F8*H8)*C8*'General information'!$C$2)) -> 0 | J8: =80*H8 -> 0 | K8: =J8*Houses!$N$24 -> 0 | L8: =IFERROR((I8)/H8+IF(I8=0,0,K8/H8),0) -> 0 | M8: =L8+IF(L8=0,0,$O$28) -> 0 | N8: =($N$28-$O$28)*H8 -> 0 | O8: =(N8-(L8*H8)) -> 0 | P8: =IF(D8=0,0,(IF((ISERROR(($N$28-$O$28)/L8)),0,($N$28-$O$28)/L8)-1)) -> 0
B9: Q5 | D9: =C9*(1.6666*((100+'General information'!$G$7+'General information'!$G$8+'General information'!$G$9)-'General information'!$C$12)/100) -> 0 | E9: =(C9*(20*((100+'General information'!$G$7+'General information'!$G$8+'General information'!$G$9)-'General information'!C12)))/1000 -> 0 | F9: =IF(ISERROR(100/D9),0,100/D9) -> 0 | G9: =IFERROR(1/F9,0) -> 0 | H9: =IF((G9*F9)<1,G9*F9*G9,1)*IF(G9<1,1,INT(G9)) -> 0 | I9: =IF(F9=1,C9*'General information'!$C$2,IF(F9<0,(H9)*C9*'General information'!$C$2,(F9*H9)*C9*'General information'!$C$2)) -> 0 | J9: =120*H9 -> 0 | K9: =J9*Houses!$N$24 -> 0 | L9: =IFERROR((I9)/H9+IF(I9=0,0,K9/H9),0) -> 0 | M9: =L9+IF(L9=0,0,$O$29) -> 0 | N9: =($N$29-$O$29)*H9 -> 0 | O9: =(N9-(L9*H9)) -> 0 | P9: =IF(D9=0,0,(IF((ISERROR(($N$29-$O$29)/L9)),0,($N$29-$O$29)/L9)-1)) -> 0
B10: Total | E10: =SUM(E5:E9) -> 0 | I10: =SUM(I5:I9) -> 0 | J10: =SUM(J5:J9) -> 0 | K10: =SUM(K5:K9) -> 0 | L10: =(L5*H5+L6*H6+L7*H7+L8*H8+L9*H9) -> 0 | N10: =SUM(N5:N9) -> 0 | O10: =SUM(O5:O9) -> 0
B12: Holding 2
B13: Houses | C13: Employees | D13: Production | E13: Raw/Day | F13: Time (Days) | G13: Number of Houses (Day) | H13: Houses by Time | I13: Total Salaries | J13: Raw Material per House | K13: Raw Material Cost | L13: Unit Cost - Without Taxes | M13: Unit Cost - With Taxes | N13: Revenue | O13: Profit/Loss | P13: % Profit/Loss - Per House
A14: 0 | B14: Quality
B15: Q1 | D15: =C15*(20*((100+'General information'!$H$7+'General information'!$H$8+'General information'!$H$9)-'General information'!$D$8)/100) -> 0 | E15: =(C15*(20*((100+'General information'!$H$7+'General information'!$H$8+'General information'!$H$9)-'General information'!D8)))/1000 -> 0 | F15: =IF(ISERROR(100/D15),0,100/D15) -> 0 | G15: =IFERROR(1/F15,0) -> 0 | H15: =IF((G15*F15)<1,G15*F15*G15,1)*IF(G15<1,1,INT(G15)) -> 0 | I15: =IF(F15=1,C15*'General information'!$C$2,IF(F15<0,(H15)*C15*'General information'!$C$2,(F15*H15)*C15*'General information'!$C$2)) -> 0 | J15: =10*H15 -> 0 | K15: =J15*Houses!$N$24 -> 0 | L15: =IFERROR((I15)/H15+IF(I15=0,0,K15/H15),0) -> 0 | M15: =L15+IF(L15=0,0,O25) -> 0 | N15: =($N$25-$O$25)*H15 -> 0 | O15: =(N15-(L15*H15)) -> 0 | P15: =IF(D15=0,0,(IF((ISERROR(($N$25-$O$25)/L15)),0,($N$25-$O$25)/L15)-1)) -> 0
B16: Q2 | D16: =C16*(10*((100+'General information'!$H$7+'General information'!$H$8+'General information'!$H$9)-'General information'!$D$9)/100) -> 0 | E16: =(C16*(20*((100+'General information'!$H$7+'General information'!$H$8+'General information'!$H$9)-'General information'!D9)))/1000 -> 0 | F16: =IF(ISERROR(100/D16),0,100/D16) -> 0 | G16: =IFERROR(1/F16,0) -> 0 | H16: =IF((G16*F16)<1,G16*F16*G16,1)*IF(G16<1,1,INT(G16)) -> 0 | I16: =IF(F16=1,C16*'General information'!$C$2,IF(F16<0,(H16)*C16*'General information'!$C$2,(F16*H16)*C16*'General information'!$C$2)) -> 0 | J16: =20*H16 -> 0 | K16: =J16*Houses!$N$24 -> 0 | L16: =IFERROR((I16)/H16+IF(I16=0,0,K16/H16),0) -> 0 | M16: =L16+IF(L16=0,0,O25) -> 0 | N16: =($N$26-$O$26)*H16 -> 0 | O16: =(N16-(L16*H16)) -> 0 | P16: =IF(D16=0,0,(IF((ISERROR(($N$26-$O$26)/L16)),0,($N$26-$O$26)/L16)-1)) -> 0
B17: Q3 | D17: =C17*(5*((100+'General information'!$H$7+'General information'!$H$8+'General information'!$H$9)-'General information'!$D$10)/100) -> 0 | E17: =(C17*(20*((100+'General information'!$H$7+'General information'!$H$8+'General information'!$H$9)-'General information'!D10)))/1000 -> 0 | F17: =IF(ISERROR(100/D17),0,100/D17) -> 0 | G17: =IFERROR(1/F17,0) -> 0 | H17: =IF((G17*F17)<1,G17*F17*G17,1)*IF(G17<1,1,INT(G17)) -> 0 | I17: =IF(F17=1,C17*'General information'!$C$2,IF(F17<0,(H17)*C17*'General information'!$C$2,(F17*H17)*C17*'General information'!$C$2)) -> 0 | J17: =40*H17 -> 0 | K17: =J17*Houses!$N$24 -> 0 | L17: =IFERROR((I17)/H17+IF(I17=0,0,K17/H17),0) -> 0 | M17: =L17+IF(L17=0,0,N27) -> 0 | N17: =($N$27-$O$27)*H17 -> 0 | O17: =(N17-(L17*H17)) -> 0 | P17: =IF(D17=0,0,(IF((ISERROR(($N$27-$O$27)/L17)),0,($N$27-$O$27)/L17)-1)) -> 0
B18: Q4 | D18: =C18*(2.5*((100+'General information'!$H$7+'General information'!$H$8+'General information'!$H$9)-'General information'!$D$11)/100) -> 0 | E18: =(C18*(20*((100+'General information'!$H$7+'General information'!$H$8+'General information'!$H$9)-'General information'!D11)))/1000 -> 0 | F18: =IF(ISERROR(100/D18),0,100/D18) -> 0 | G18: =IFERROR(1/F18,0) -> 0 | H18: =IF((G18*F18)<1,G18*F18*G18,1)*IF(G18<1,1,INT(G18)) -> 0 | I18: =IF(F18=1,C18*'General information'!$C$2,IF(F18<0,(H18)*C18*'General information'!$C$2,(F18*H18)*C18*'General information'!$C$2)) -> 0 | J18: =80*H18 -> 0 | K18: =J18*Houses!$N$24 -> 0 | L18: =IFERROR((I18)/H18+IF(I18=0,0,K18/H18),0) -> 0 | M18: =L18+IF(L18=0,0,N28) -> 0 | N18: =($N$28-$O$28)*H18 -> 0 | O18: =(N18-(L18*H18)) -> 0 | P18: =IF(D18=0,0,(IF((ISERROR(($N$28-$O$28)/L18)),0,($N$28-$O$28)/L18)-1)) -> 0
B19: Q5 | D19: =C19*(1.6666*((100+'General information'!$H$7+'General information'!$H$8+'General information'!$H$9)-'General information'!$D$12)/100) -> 0 | E19: =(C19*(20*((100+'General information'!$H$7+'General information'!$H$8+'General information'!$H$9)-'General information'!D12)))/1000 -> 0 | F19: =IF(ISERROR(100/D19),0,100/D19) -> 0 | G19: =IFERROR(1/F19,0) -> 0 | H19: =IF((G19*F19)<1,G19*F19*G19,1)*IF(G19<1,1,INT(G19)) -> 0 | I19: =IF(F19=1,C19*'General information'!$C$2,IF(F19<0,(H19)*C19*'General information'!$C$2,(F19*H19)*C19*'General information'!$C$2)) -> 0 | J19: =120*H19 -> 0 | K19: =J19*Houses!$N$24 -> 0 | L19: =IFERROR((I19)/H19+IF(I19=0,0,K19/H19),0) -> 0 | M19: =L19+IF(L19=0,0,O29) -> 0 | N19: =($N$29-$O$29)*H19 -> 0 | O19: =(N19-(L19*H19)) -> 0 | P19: =IF(D19=0,0,(IF((ISERROR(($N$29-$O$29)/L19)),0,($N$29-$O$29)/L19)-1)) -> 0
B20: Total | E20: =SUM(E15:E19) -> 0 | I20: =SUM(I15:I19) -> 0 | J20: =SUM(J15:J19) -> 0 | K20: =SUM(K15:K19) -> 0 | L20: =(L15*H15+L16*H16+L17*H17+L18*H18+L19*H19) -> 0 | N20: =SUM(N15:N19) -> 0 | O20: =SUM(O15:O19) -> 0
B22: Holding 1 | M22: Stock - Houses
B23: Raw Material | C23: Employees | D23: Production | E23: Total Salaries | F23: Unit Cost - Raw Material | G23: Export Tax | I23: Revenue | J23: Profit/Loss | K23: % Profit/Loss | M23: Quality | N23: Price | O23: Tax | P23: Amount | Q23: Gross Value | R23: Total Tax | S23: Net Total
B24: Quality | M24: Raw | O24: =IF(D30=0,0,(($N$24*'General information'!$H$14%))) -> 0 | Q24: =N24*P24 -> 0 | R24: =IF(P24=0,0,(($N$24*'General information'!$H$14%)*P24)) -> 0 | S24: =Q24-R24 -> 0
B25: Q1 | D25: =((35*((100+'General information'!$G$7+'General information'!$G$8+'General information'!$G$9)-'General information'!$C$7)/100)*C25)/100 -> 0 | E25: =C25*'General information'!$C$2 -> 0 | F25: =IF(ISERROR(E25/D25),0,E25/D25) -> 0 | G25: =IF(D25=0,0,(($N$24*'General information'!$H$14%)*D25)) -> 0 | I25: =D25*(Houses!$N$24-$O$24) -> 0 | J25: =I25-E25 -> 0 | K25: =IF(D25=0,0,(IF((ISERROR(($N$24-$O$24)/F25)),0,($N$24-$O$24)/F25)-1)) -> 0 | M25: Q1 | O25: =(N25*'General information'!$H$13%)+(N25*'General information'!$H$14%) -> 0 | Q25: =N25*P25 -> 0 | R25: =((N25*'General information'!$H$13%)+(N25*'General information'!$H$14%))*P25 -> 0 | S25: =Q25-R25 -> 0
B26: Q2 | D26: =((70*((100+'General information'!$G$7+'General information'!$G$8+'General information'!$G$9)-'General information'!$C$7)/100)*C26)/100 -> 0 | E26: =C26*'General information'!$C$2 -> 0 | F26: =IF(ISERROR(E26/D26),0,E26/D26) -> 0 | G26: =IF(D26=0,0,(($N$24*'General information'!$H$14%)*D26)) -> 0 | I26: =D26*(Houses!$N$24-$O$24) -> 0 | J26: =I26-E26 -> 0 | K26: =IF(D26=0,0,(IF((ISERROR(($N$24-$O$24)/F26)),0,($N$24-$O$24)/F26)-1)) -> 0 | M26: Q2 | O26: =(N26*'General information'!$H$13%)+(N26*'General information'!$H$14%) -> 0 | Q26: =N26*P26 -> 0 | R26: =((N26*'General information'!$H$13%)+(N26*'General information'!$H$14%))*P26 -> 0 | S26: =Q26-R26 -> 0
B27: Q3 | D27: =((125*((100+'General information'!$G$7+'General information'!$G$8+'General information'!$G$9)-'General information'!$C$7)/100)*C27)/100 -> 0 | E27: =C27*'General information'!$C$2 -> 0 | F27: =IF(ISERROR(E27/D27),0,E27/D27) -> 0 | G27: =IF(D27=0,0,(($N$24*'General information'!$H$14%)*D27)) -> 0 | I27: =D27*(Houses!$N$24-$O$24) -> 0 | J27: =I27-E27 -> 0 | K27: =IF(D27=0,0,(IF((ISERROR(($N$24-$O$24)/F27)),0,($N$24-$O$24)/F27)-1)) -> 0 | M27: Q3 | O27: =(N27*'General information'!$H$13%)+(N27*'General information'!$H$14%) -> 0 | Q27: =N27*P27 -> 0 | R27: =((N27*'General information'!$H$13%)+(N27*'General information'!$H$14%))*P27 -> 0 | S27: =Q27-R27 -> 0
B28: Q4 | D28: =((175*((100+'General information'!$G$7+'General information'!$G$8+'General information'!$G$9)-'General information'!$C$7)/100)*C28)/100 -> 0 | E28: =C28*'General information'!$C$2 -> 0 | F28: =IF(ISERROR(E28/D28),0,E28/D28) -> 0 | G28: =IF(D28=0,0,(($N$24*'General information'!$H$14%)*D28)) -> 0 | I28: =D28*(Houses!$N$24-$O$24) -> 0 | J28: =I28-E28 -> 0 | K28: =IF(D28=0,0,(IF((ISERROR(($N$24-$O$24)/F28)),0,($N$24-$O$24)/F28)-1)) -> 0 | M28: Q4 | O28: =(N28*'General information'!$H$13%)+(N28*'General information'!$H$14%) -> 0 | Q28: =N28*P28 -> 0 | R28: =((N28*'General information'!$H$13%)+(N28*'General information'!$H$14%))*P28 -> 0 | S28: =Q28-R28 -> 0
B29: Q5 | D29: =((250*((100+'General information'!$G$7+'General information'!$G$8+'General information'!$G$9)-'General information'!$C$7)/100)*C29)/100 -> 0 | E29: =C29*'General information'!$C$2 -> 0 | F29: =IF(ISERROR(E29/D29),0,E29/D29) -> 0 | G29: =IF(D29=0,0,(($N$24*'General information'!$H$14%)*D29)) -> 0 | I29: =D29*(Houses!$N$24-$O$24) -> 0 | J29: =I29-E29 -> 0 | K29: =IF(D29=0,0,(IF((ISERROR(($N$24-$O$24)/F29)),0,($N$24-$O$24)/F29)-1)) -> 0 | M29: Q5 | O29: =(N29*'General information'!$H$13%)+(N29*'General information'!$H$14%) -> 0 | Q29: =N29*P29 -> 0 | R29: =((N29*'General information'!$H$13%)+(N29*'General information'!$H$14%))*P29 -> 0 | S29: =Q29-R29 -> 0
B30: Total | C30: - | D30: =SUM(D25:D29) -> 0 | E30: =SUM(E25:E29) -> 0 | F30: =IF(ISERROR(E30/D30),0,E30/D30) -> 0 | G30: =SUM(G25:G29) -> 0 | I30: =SUM(I25:I29) -> 0 | J30: =SUM(J25:J29) -> 0 | O30: =SUM(O24:O29) -> 0 | Q30: =SUM(Q24:Q29) -> 0 | R30: =SUM(R24:R29) -> 0 | S30: =SUM(S24:S29) -> 0
B32: Holding 2 | N32: Raw | O32: Cost | P32: Average Cost
B33: Raw Material | C33: Employees | D33: Production | E33: Total Salaries | F33: Unit Cost - Raw Material | G33: Export Tax | I33: Revenue | J33: Profit/Loss | K33: % Profit/Loss | M33: Production | N33: =D30+D40 -> 0 | O33: =N33*((F30+F40)/2) -> 0 | P33: =IF(ISERROR(O33/N33),0,O33/N33) -> 0
B34: Quality | M34: Purchase | N34: =IF(N35>N33,N35-N33,0) -> 0 | O34: =N24*N34 -> 0 | P34: =IF(ISERROR(O34/N34),0,O34/N34) -> 0
B35: Q1 | D35: =((35*((100+'General information'!$H$7+'General information'!$H$8+'General information'!$H$9)-'General information'!D7)/100)*C35)/100 -> 0 | E35: =C35*'General information'!$C$2 -> 0 | F35: =IF(ISERROR(E35/D35),0,E35/D35) -> 0 | G35: =IF(D35=0,0,(($N$24*'General information'!$H$14%)*D35)) -> 0 | I35: =D35*Houses!$N$24 -> 0 | J35: =I35-(E35+G35) -> 0 | K35: =IF(D35=0,0,(IF((ISERROR(($N$24-$O$24)/F35)),0,($N$24-$O$24)/F35)-1)) -> 0 | M35: Daily use | N35: =E10+E20 -> 0 | O35: =O33+O34 -> 0 | P35: =IF(N35>N33,((N33/N35*P33)+(N34/N35*P34)),P33) -> 0
B36: Q2 | D36: =((70*((100+'General information'!$H$7+'General information'!$H$8+'General information'!$H$9)-'General information'!D7)/100)*C36)/100 -> 0 | E36: =C36*'General information'!$C$2 -> 0 | F36: =IF(ISERROR(E36/D36),0,E36/D36) -> 0 | G36: =IF(D36=0,0,(($N$24*'General information'!$H$14%)*D36)) -> 0 | I36: =D36*Houses!$N$24 -> 0 | J36: =I36-(E36+G36) -> 0 | K36: =IF(D36=0,0,(IF((ISERROR(($N$24-$O$24)/F36)),0,($N$24-$O$24)/F36)-1)) -> 0 | M36: Surplus / Shortage | N36: =N33-N35 -> 0
B37: Q3 | D37: =((125*((100+'General information'!$H$7+'General information'!$H$8+'General information'!$H$9)-'General information'!D7)/100)*C37)/100 -> 0 | E37: =C37*'General information'!$C$2 -> 0 | F37: =IF(ISERROR(E37/D37),0,E37/D37) -> 0 | G37: =IF(D37=0,0,(($N$24*'General information'!$H$14%)*D37)) -> 0 | I37: =D37*Houses!$N$24 -> 0 | J37: =I37-(E37+G37) -> 0 | K37: =IF(D37=0,0,(IF((ISERROR(($N$24-$O$24)/F37)),0,($N$24-$O$24)/F37)-1)) -> 0
B38: Q4 | D38: =((175*((100+'General information'!$H$7+'General information'!$H$8+'General information'!$H$9)-'General information'!D7)/100)*C38)/100 -> 0 | E38: =C38*'General information'!$C$2 -> 0 | F38: =IF(ISERROR(E38/D38),0,E38/D38) -> 0 | G38: =IF(D38=0,0,(($N$24*'General information'!$H$14%)*D38)) -> 0 | I38: =D38*Houses!$N$24 -> 0 | J38: =I38-(E38+G38) -> 0 | K38: =IF(D38=0,0,(IF((ISERROR(($N$24-$O$24)/F38)),0,($N$24-$O$24)/F38)-1)) -> 0
B39: Q5 | D39: =((250*((100+'General information'!$H$7+'General information'!$H$8+'General information'!$H$9)-'General information'!D7)/100)*C39)/100 -> 0 | E39: =C39*'General information'!$C$2 -> 0 | F39: =IF(ISERROR(E39/D39),0,E39/D39) -> 0 | G39: =IF(D39=0,0,(($N$24*'General information'!$H$14%)*D39)) -> 0 | I39: =D39*Houses!$N$24 -> 0 | J39: =I39-(E39+G39) -> 0 | K39: =IF(D39=0,0,(IF((ISERROR(($N$24-$O$24)/F39)),0,($N$24-$O$24)/F39)-1)) -> 0
B40: Total | C40: - | D40: =SUM(D35:D39) -> 0 | E40: =SUM(E35:E39) -> 0 | F40: =IF(ISERROR(E40/D40),0,E40/D40) -> 0 | G40: =IF(ISERROR(F40/E40),0,F40/E40) -> 0 | I40: =SUM(I35:I39) -> 0 | J40: =SUM(J35:J39) -> 0

Sheet Weapons
B2: Holding 1
B3: Weapons | C3: Manager | D3: Employees | E3: Production | F3: Raw/Day | G3: Total Salaries | H3: Manager Tax | I3: Raw Material Cost | J3: Total Cost - Without Taxes | K3: Unit Cost - Without Taxes | L3: Unit Cost - With Taxes | M3: Revenue | N3: Profit/Loss | O3: % Profit/Loss Per Weapon
B4: Quality
B5: Q1 | E5: =(10*((100+'General information'!$G$20+'General information'!$G$21+'General information'!$G$22)-'General information'!C21)/100)*(D5+C5) -> 0 | F5: =(E5*10)/100 -> 0 | G5: =D5*'General information'!$C$2 -> 0 | H5: =(('General information'!$E$30*C5)*0.8+('General information'!$E$32*C5)*0.2) -> 0 | I5: =F5*Weapons!$P$28 -> 0 | J5: =(G5+I5+H5) -> 0 | K5: =IF(ISERROR((J5/E5)),0,((J5/E5))) -> 0 | L5: =IF(E5=0,0,K5+P5) -> 0 | M5: =(E5*($P$29-$Q$29)) -> 0 | N5: =M5-J5 -> 0 | O5: =IF(E5=0,0,(IF((ISERROR(($P$29-$Q$29)/K5)),0,($P$29-$Q$29)/K5)-1)) -> 0
B6: Q2 | E6: =(10*((100+'General information'!$G$20+'General information'!$G$21+'General information'!$G$22)-'General information'!C22)/100)*(D6+C6) -> 0 | F6: =(E6*20)/100 -> 0 | G6: =D6*'General information'!$C$2 -> 0 | H6: =(('General information'!$E$30*C6)*0.8+('General information'!$E$32*C6)*0.2) -> 0 | I6: =F6*Weapons!$P$28 -> 0 | J6: =(G6+I6+H6) -> 0 | K6: =IF(ISERROR((J6/E6)),0,((J6/E6))) -> 0 | L6: =IF(E6=0,0,K6+P6) -> 0 | M6: =(E6*($P$30-$Q$30)) -> 0 | N6: =M6-J6 -> 0 | O6: =IF(E6=0,0,(IF((ISERROR(($P$30-$Q$30)/K6)),0,($P$30-$Q$30)/K6)-1)) -> 0
B7: Q3 | E7: =(10*((100+'General information'!$G$20+'General information'!$G$21+'General information'!$G$22)-'General information'!C23)/100)*(D7+C7) -> 0 | F7: =(E7*30)/100 -> 0 | G7: =D7*'General information'!$C$2 -> 0 | H7: =(('General information'!$E$30*C7)*0.8+('General information'!$E$32*C7)*0.2) -> 0 | I7: =F7*Weapons!$P$28 -> 0 | J7: =(G7+I7+H7) -> 0 | K7: =IF(ISERROR((J7/E7)),0,((J7/E7))) -> 0 | L7: =IF(E7=0,0,K7+P7) -> 0 | M7: =(E7*($P$31-$Q$31)) -> 0 | N7: =M7-J7 -> 0 | O7: =IF(E7=0,0,(IF((ISERROR(($P$31-$Q$31)/K7)),0,($P$31-$Q$31)/K7)-1)) -> 0
B8: Q4 | E8: =(10*((100+'General information'!$G$20+'General information'!$G$21+'General information'!$G$22)-'General information'!C24)/100)*(D8+C8) -> 0 | F8: =(E8*40)/100 -> 0 | G8: =D8*'General information'!$C$2 -> 0 | H8: =(('General information'!$E$30*C8)*0.8+('General information'!$E$32*C8)*0.2) -> 0 | I8: =F8*Weapons!$P$28 -> 0 | J8: =(G8+I8+H8) -> 0 | K8: =IF(ISERROR((J8/E8)),0,((J8/E8))) -> 0 | L8: =IF(E8=0,0,K8+P8) -> 0 | M8: =(E8*($P$32-$Q$32)) -> 0 | N8: =M8-J8 -> 0 | O8: =IF(E8=0,0,(IF((ISERROR(($P$32-$Q$32)/K8)),0,($P$32-$Q$32)/K8)-1)) -> 0
B9: Q5 | E9: =(10*((100+'General information'!$G$20+'General information'!$G$21+'General information'!$G$22)-'General information'!C25)/100)*(D9+C9) -> 0 | F9: =(E9*50)/100 -> 0 | G9: =D9*'General information'!$C$2 -> 0 | H9: =(('General information'!$E$30*C9)*0.8+('General information'!$E$32*C9)*0.2) -> 0 | I9: =F9*Weapons!$P$28 -> 0 | J9: =(G9+I9+H9) -> 0 | K9: =IF(ISERROR((J9/E9)),0,((J9/E9))) -> 0 | L9: =IF(E9=0,0,K9+P9) -> 0 | M9: =(E9*($P$33-$Q$33)) -> 0 | N9: =M9-J9 -> 0 | O9: =IF(E9=0,0,(IF((ISERROR(($P$33-$Q$33)/K9)),0,($P$33-$Q$33)/K9)-1)) -> 0
B10: Q6 | E10: =(10*((100+'General information'!$G$20+'General information'!$G$21+'General information'!$G$22)-'General information'!C26)/100)*(D10+C10) -> 0 | F10: =(E10*60)/100 -> 0 | G10: =D10*'General information'!$C$2 -> 0 | H10: =(('General information'!$E$30*C10)*0.8+('General information'!$E$32*C10)*0.2) -> 0 | I10: =F10*Weapons!$P$28 -> 0 | J10: =(G10+I10+H10) -> 0 | K10: =IF(ISERROR((J10/E10)),0,((J10/E10))) -> 0 | L10: =IF(E10=0,0,K10+P10) -> 0 | M10: =(E10*($P$34-$Q$34)) -> 0 | N10: =M10-J10 -> 0 | O10: =IF(E10=0,0,(IF((ISERROR(($P$34-$Q$34)/K10)),0,($P$34-$Q$34)/K10)-1)) -> 0
B11: Q7 | E11: =(10*((100+'General information'!$G$20+'General information'!$G$21+'General information'!$G$22)-'General information'!C27)/100)*(D11+C11) -> 0 | F11: =(E11*200)/100 -> 0 | G11: =D11*'General information'!$C$2 -> 0 | H11: =(('General information'!$E$30*C11)*0.8+('General information'!$E$32*C11)*0.2) -> 0 | I11: =F11*Weapons!$P$28 -> 0 | J11: =(G11+I11+H11) -> 0 | K11: =IF(ISERROR((J11/E11)),0,((J11/E11))) -> 0 | L11: =IF(E11=0,0,K11+P11) -> 0 | M11: =(E11*($P$35-$Q$35)) -> 0 | N11: =M11-J11 -> 0 | O11: =IF(E11=0,0,(IF((ISERROR(($P$35-$Q$35)/K11)),0,($P$35-$Q$35)/K11)-1)) -> 0
B12: Total | F12: =SUM(F5:F11) -> 0 | G12: =SUM(G5:G11) -> 0 | H12: =SUM(H5:H11) -> 0 | I12: =SUM(I5:I11) -> 0 | J12: =SUM(J5:J11) -> 0 | M12: =SUM(M5:M11) -> 0 | N12: =SUM(N5:N11) -> 0
B14: Holding 2
B15: Weapons | C15: Manager | D15: Employees | E15: Production | F15: Raw/Day | G15: Total Salaries | H15: Manager Tax | I15: Raw Material Cost | J15: Total Cost - Without Taxes | K15: Unit Cost - Without Taxes | L15: Unit Cost - With Taxes | M15: Revenue | N15: Profit/Loss | O15: % Profit/Loss Per Weapon
B16: Quality
B17: Q1 | E17: =(10*((100+'General information'!$H$20+'General information'!$H$21+'General information'!$H$22)-'General information'!D21)/100)*(D17+C17) -> 0 | F17: =(E17*10)/100 -> 0 | G17: =D17*'General information'!$C$2 -> 0 | H17: =(('General information'!$E$31*C17)*0.8+('General information'!$E$32*C17)*0.2) -> 0 | I17: =F17*Weapons!$P$28 -> 0 | J17: =(G17+I17+H17) -> 0 | K17: =IF(ISERROR((J17/E17)),0,((J17/E17))) -> 0 | L17: =IF(E17=0,0,K17+Q29) -> 0 | M17: =(E17*($P$29-$Q$29)) -> 0 | N17: =M17-J17 -> 0 | O17: =IF(E17=0,0,(IF((ISERROR(($P$29-$Q$29)/K17)),0,($P$29-$Q$29)/K17)-1)) -> 0
B18: Q2 | E18: =(10*((100+'General information'!$H$20+'General information'!$H$21+'General information'!$H$22)-'General information'!D22)/100)*(D18+C18) -> 0 | F18: =(E18*20)/100 -> 0 | G18: =D18*'General information'!$C$2 -> 0 | H18: =(('General information'!$E$31*C18)*0.8+('General information'!$E$32*C18)*0.2) -> 0 | I18: =F18*Weapons!$P$28 -> 0 | J18: =(G18+I18+H18) -> 0 | K18: =IF(ISERROR((J18/E18)),0,((J18/E18))) -> 0 | L18: =IF(E18=0,0,K18+Q30) -> 0 | M18: =(E18*($P$30-$Q$30)) -> 0 | N18: =M18-J18 -> 0 | O18: =IF(E18=0,0,(IF((ISERROR(($P$30-$Q$30)/K18)),0,($P$30-$Q$30)/K18)-1)) -> 0
B19: Q3 | E19: =(10*((100+'General information'!$H$20+'General information'!$H$21+'General information'!$H$22)-'General information'!D23)/100)*(D19+C19) -> 0 | F19: =(E19*30)/100 -> 0 | G19: =D19*'General information'!$C$2 -> 0 | H19: =(('General information'!$E$31*C19)*0.8+('General information'!$E$32*C19)*0.2) -> 0 | I19: =F19*Weapons!$P$28 -> 0 | J19: =(G19+I19+H19) -> 0 | K19: =IF(ISERROR((J19/E19)),0,((J19/E19))) -> 0 | L19: =IF(E19=0,0,K19+Q31) -> 0 | M19: =(E19*($P$31-$Q$31)) -> 0 | N19: =M19-J19 -> 0 | O19: =IF(E19=0,0,(IF((ISERROR(($P$31-$Q$31)/K19)),0,($P$31-$Q$31)/K19)-1)) -> 0
B20: Q4 | E20: =(10*((100+'General information'!$H$20+'General information'!$H$21+'General information'!$H$22)-'General information'!D24)/100)*(D20+C20) -> 0 | F20: =(E20*40)/100 -> 0 | G20: =D20*'General information'!$C$2 -> 0 | H20: =(('General information'!$E$31*C20)*0.8+('General information'!$E$32*C20)*0.2) -> 0 | I20: =F20*Weapons!$P$28 -> 0 | J20: =(G20+I20+H20) -> 0 | K20: =IF(ISERROR((J20/E20)),0,((J20/E20))) -> 0 | L20: =IF(E20=0,0,K20+Q32) -> 0 | M20: =(E20*($P$32-$Q$32)) -> 0 | N20: =M20-J20 -> 0 | O20: =IF(E20=0,0,(IF((ISERROR(($P$32-$Q$32)/K20)),0,($P$32-$Q$32)/K20)-1)) -> 0
B21: Q5 | E21: =(10*((100+'General information'!$H$20+'General information'!$H$21+'General information'!$H$22)-'General information'!D25)/100)*(D21+C21) -> 0 | F21: =(E21*50)/100 -> 0 | G21: =D21*'General information'!$C$2 -> 0 | H21: =(('General information'!$E$31*C21)*0.8+('General information'!$E$32*C21)*0.2) -> 0 | I21: =F21*Weapons!$P$28 -> 0 | J21: =(G21+I21+H21) -> 0 | K21: =IF(ISERROR((J21/E21)),0,((J21/E21))) -> 0 | L21: =IF(E21=0,0,K21+Q33) -> 0 | M21: =(E21*($P$33-$Q$33)) -> 0 | N21: =M21-J21 -> 0 | O21: =IF(E21=0,0,(IF((ISERROR(($P$33-$Q$33)/K21)),0,($P$33-$Q$33)/K21)-1)) -> 0
B22: Q6 | E22: =(10*((100+'General information'!$H$20+'General information'!$H$21+'General information'!$H$22)-'General information'!D26)/100)*(D22+C22) -> 0 | F22: =(E22*60)/100 -> 0 | G22: =D22*'General information'!$C$2 -> 0 | H22: =(('General information'!$E$31*C22)*0.8+('General information'!$E$32*C22)*0.2) -> 0 | I22: =F22*Weapons!$P$28 -> 0 | J22: =(G22+I22+H22) -> 0 | K22: =IF(ISERROR((J22/E22)),0,((J22/E22))) -> 0 | L22: =IF(E22=0,0,K22+Q34) -> 0 | M22: =(E22*($P$34-$Q$34)) -> 0 | N22: =M22-J22 -> 0 | O22: =IF(E22=0,0,(IF((ISERROR(($P$34-$Q$34)/K22)),0,($P$34-$Q$34)/K22)-1)) -> 0
B23: Q7 | E23: =(10*((100+'General information'!$H$20+'General information'!$H$21+'General information'!$H$22)-'General information'!D27)/100)*(D23+C23) -> 0 | F23: =(E23*200)/100 -> 0 | G23: =D23*'General information'!$C$2 -> 0 | H23: =(('General information'!$E$31*C23)*0.8+('General information'!$E$32*C23)*0.2) -> 0 | I23: =F23*Weapons!$P$28 -> 0 | J23: =(G23+I23+H23) -> 0 | K23: =IF(ISERROR((J23/E23)),0,((J23/E23))) -> 0 | L23: =IF(E23=0,0,K23+Q35) -> 0 | M23: =(E23*($P$35-$Q$35)) -> 0 | N23: =M23-J23 -> 0 | O23: =IF(E23=0,0,(IF((ISERROR(($P$35-$Q$35)/K23)),0,($P$35-$Q$35)/K23)-1)) -> 0
B24: Total | F24: =SUM(F17:F23) -> 0 | G24: =SUM(G17:G23) -> 0 | H24: =SUM(H17:H23) -> 0 | I24: =SUM(I17:I23) -> 0 | J24: =SUM(J17:J23) -> 0 | M24: =SUM(M17:M23) -> 0 | N24: =SUM(N17:N23) -> 0
B26: Holding 1 | O26: Stock - Weapons
B27: Raw Material | C27: Manager | D27: Employees | E27: Production | F27: Manager Tax | G27: Total Salaries | H27: Total Cost - Without Taxes | I27: Unit Cost - Without Taxes | J27: Export Tax | K27: Revenue | L27: Profit/Loss | M27: % Profit/Loss | O27: Quality | P27: Price | Q27: Tax | R27: Amount | S27: Gross Value | T27: Total Tax | U27: Net Total
B28: Quality | O28: Raw | Q28: =IF(F24=0,0,(($P$28*'General information'!H32%))) -> 0 | S28: =P28*R28 -> 0 | T28: =IF(R28=0,0,((Weapons!$P$28*'General information'!$H$32%)*R28)) -> 0 | U28: =S28-T28 -> 0
B29: Q1 | E29: =((35*((100+'General information'!$G$20+'General information'!$G$21+'General information'!$G$22)-'General information'!$C$20)/100)*(D29+C29))/100 -> 0 | F29: =((C29*'General information'!$E$30)*0.8+(C29*'General information'!$E$32)*0.2) -> 0 | G29: =D29*'General information'!$C$2 -> 0 | H29: =F29+G29 -> 0 | I29: =IF(ISERROR(H29/E29),0,H29/E29) -> 0 | J29: =IF(E29=0,0,((Weapons!$P$28*'General information'!$H$32%)*E29)) -> 0 | K29: =E29*(Weapons!$P$28-$Q$28) -> 0 | L29: =K29-H29 -> 0 | M29: =IFERROR(IF(ISERROR(K29/H29),0,(K29/H29))-IF((K29/H29)<0,0,1),0) -> 0 | O29: Q1 | Q29: =(P29*'General information'!$H$31%)+(P29*'General information'!$H$32%) -> 0 | S29: =P29*R29 -> 0 | T29: =((P29*'General information'!$H$31%)+(P29*'General information'!$H$32%)*R29) -> 0 | U29: =S29-T29 -> 0
B30: Q2 | E30: =((70*((100+'General information'!$G$20+'General information'!$G$21+'General information'!$G$22)-'General information'!$C$20)/100)*(D30+C30))/100 -> 0 | F30: =((C30*'General information'!$E$30)*0.8+(C30*'General information'!$E$32)*0.2) -> 0 | G30: =D30*'General information'!$C$2 -> 0 | H30: =F30+G30 -> 0 | I30: =IF(ISERROR(H30/E30),0,H30/E30) -> 0 | J30: =IF(E30=0,0,((Weapons!$P$28*'General information'!$H$32%)*E30)) -> 0 | K30: =E30*(Weapons!$P$28-$Q$28) -> 0 | L30: =K30-H30 -> 0 | M30: =IFERROR(IF(ISERROR(K30/H30),0,(K30/H30))-IF((K30/H30)<0,0,1),0) -> 0 | O30: Q2 | Q30: =(P30*'General information'!$H$31%)+(P30*'General information'!$H$32%) -> 0 | S30: =P30*R30 -> 0 | T30: =((P30*'General information'!$H$31%)+(P30*'General information'!$H$32%)*R30) -> 0 | U30: =S30-T30 -> 0
B31: Q3 | E31: =((125*((100+'General information'!$G$20+'General information'!$G$21+'General information'!$G$22)-'General information'!$C$20)/100)*(D31+C31))/100 -> 0 | F31: =((C31*'General information'!$E$30)*0.8+(C31*'General information'!$E$32)*0.2) -> 0 | G31: =D31*'General information'!$C$2 -> 0 | H31: =F31+G31 -> 0 | I31: =IF(ISERROR(H31/E31),0,H31/E31) -> 0 | J31: =IF(E31=0,0,((Weapons!$P$28*'General information'!$H$32%)*E31)) -> 0 | K31: =E31*(Weapons!$P$28-$Q$28) -> 0 | L31: =K31-H31 -> 0 | M31: =IFERROR(IF(ISERROR(K31/H31),0,(K31/H31))-IF((K31/H31)<0,0,1),0) -> 0 | O31: Q3 | Q31: =(P31*'General information'!$H$31%)+(P31*'General information'!$H$32%) -> 0 | S31: =P31*R31 -> 0 | T31: =((P31*'General information'!$H$31%)+(P31*'General information'!$H$32%)*R31) -> 0 | U31: =S31-T31 -> 0
B32: Q4 | E32: =((175*((100+'General information'!$G$20+'General information'!$G$21+'General information'!$G$22)-'General information'!$C$20)/100)*(D32+C32))/100 -> 0 | F32: =((C32*'General information'!$E$30)*0.8+(C32*'General information'!$E$32)*0.2) -> 0 | G32: =D32*'General information'!$C$2 -> 0 | H32: =F32+G32 -> 0 | I32: =IF(ISERROR(H32/E32),0,H32/E32) -> 0 | J32: =IF(E32=0,0,((Weapons!$P$28*'General information'!$H$32%)*E32)) -> 0 | K32: =E32*(Weapons!$P$28-$Q$28) -> 0 | L32: =K32-H32 -> 0 | M32: =IFERROR(IF(ISERROR(K32/H32),0,(K32/H32))-IF((K32/H32)<0,0,1),0) -> 0 | O32: Q4 | Q32: =(P32*'General information'!$H$31%)+(P32*'General information'!$H$32%) -> 0 | S32: =P32*R32 -> 0 | T32: =((P32*'General information'!$H$31%)+(P32*'General information'!$H$32%)*R32) -> 0 | U32: =S32-T32 -> 0
B33: Q5 | E33: =((250*((100+'General information'!$G$20+'General information'!$G$21+'General information'!$G$22)-'General information'!$C$20)/100)*(D33+C33))/100 -> 0 | F33: =((C33*'General information'!$E$30)*0.8+(C33*'General information'!$E$32)*0.2) -> 0 | G33: =D33*'General information'!$C$2 -> 0 | H33: =F33+G33 -> 0 | I33: =IF(ISERROR(H33/E33),0,H33/E33) -> 0 | J33: =IF(E33=0,0,((Weapons!$P$28*'General information'!$H$32%)*E33)) -> 0 | K33: =E33*(Weapons!$P$28-$Q$28) -> 0 | L33: =K33-H33 -> 0 | M33: =IFERROR(IF(ISERROR(K33/H33),0,(K33/H33))-IF((K33/H33)<0,0,1),0) -> 0 | O33: Q5 | Q33: =(P33*'General information'!$H$31%)+(P33*'General information'!$H$32%) -> 0 | S33: =P33*R33 -> 0 | T33: =((P33*'General information'!$H$31%)+(P33*'General information'!$H$32%)*R33) -> 0 | U33: =S33-T33 -> 0
B34: Total | E34: =SUM(E29:E33) -> 0 | F34: =SUM(F29:F33) -> 0 | G34: =SUM(G29:G33) -> 0 | H34: =SUM(H29:H33) -> 0 | I34: =IF(ISERROR(H34/E34),0,H34/E34) -> 0 | J34: =SUM(J29:J33) -> 0 | K34: =SUM(K29:K33) -> 0 | L34: =SUM(L29:L33) -> 0 | O34: Q6 | Q34: =(P34*'General information'!$H$31%)+(P34*'General information'!$H$32%) -> 0 | S34: =P34*R34 -> 0 | T34: =((P34*'General information'!$H$31%)+(P34*'General information'!$H$32%)*R34) -> 0 | U34: =S34-T34 -> 0
O35: Q7 | Q35: =(P35*'General information'!$H$31%)+(P35*'General information'!$H$32%) -> 0 | S35: =P35*R35 -> 0 | T35: =((P35*'General information'!$H$31%)+(P35*'General information'!$H$32%)*R35) -> 0 | U35: =S35-T35 -> 0
B36: Holding 2 | Q36: =SUM(Q28:Q35) -> 0 | S36: =SUM(S28:S35) -> 0 | T36: =SUM(T28:T35) -> 0 | U36: =SUM(U28:U35) -> 0
B37: Raw Material | C37: Manager | D37: Employees | E37: Production | F37: Manager Tax | G37: Total Salaries | H37: Total Cost - Without Taxes | I37: Unit Cost - Without Taxes | J37: Export Tax | K37: Revenue | L37: Profit/Loss | M37: % Profit/Loss
B38: Quality | P38: Raw | Q38: Cost | R38: Average Cost
B39: Q1 | E39: =((35*((100+'General information'!$H$20+'General information'!$H$21+'General information'!$H$22)-'General information'!$D$20)/100)*(D39+C39))/100 -> 0 | F39: =((C39*'General information'!$E$31)*0.8+(C39*'General information'!$E$32)*0.2) -> 0 | G39: =D39*'General information'!$C$2 -> 0 | H39: =F39+G39 -> 0 | I39: =IF(ISERROR(H39/E39),0,H39/E39) -> 0 | J39: =IF(E39=0,0,((Weapons!$P$28*'General information'!$H$32%)*E39)) -> 0 | K39: =E39*(Weapons!$P$28-$Q$28) -> 0 | L39: =K39-H39 -> 0 | M39: =IFERROR(IF(ISERROR(K39/H39),0,(K39/H39))-IF((K39/H39)<0,0,1),0) -> 0 | O39: Production | P39: =E34+E44 -> 0 | Q39: =P39*((I34+I44)/2) -> 0 | R39: =IF(ISERROR(Q39/P39),0,Q39/P39) -> 0
B40: Q2 | E40: =((70*((100+'General information'!$H$20+'General information'!$H$21+'General information'!$H$22)-'General information'!$D$20)/100)*(D40+C40))/100 -> 0 | F40: =((C40*'General information'!$E$31)*0.8+(C40*'General information'!$E$32)*0.2) -> 0 | G40: =D40*'General information'!$C$2 -> 0 | H40: =F40+G40 -> 0 | I40: =IF(ISERROR(H40/E40),0,H40/E40) -> 0 | J40: =IF(E40=0,0,((Weapons!$P$28*'General information'!$H$32%)*E40)) -> 0 | K40: =E40*(Weapons!$P$28-$Q$28) -> 0 | L40: =K40-H40 -> 0 | M40: =IFERROR(IF(ISERROR(K40/F40),0,(K40/F40))-IF((K40/F40)<0,0,1),0) -> 0 | O40: Purchase | P40: =IF(P41>P39,P41-P39,0) -> 0 | Q40: =P28*P40 -> 0 | R40: =IF(ISERROR(Q40/P40),0,Q40/P40) -> 0
B41: Q3 | E41: =((125*((100+'General information'!$H$20+'General information'!$H$21+'General information'!$H$22)-'General information'!$D$20)/100)*(D41+C41))/100 -> 0 | F41: =((C41*'General information'!$E$31)*0.8+(C41*'General information'!$E$32)*0.2) -> 0 | G41: =D41*'General information'!$C$2 -> 0 | H41: =F41+G41 -> 0 | I41: =IF(ISERROR(H41/E41),0,H41/E41) -> 0 | J41: =IF(E41=0,0,((Weapons!$P$28*'General information'!$H$32%)*E41)) -> 0 | K41: =E41*(Weapons!$P$28-$Q$28) -> 0 | L41: =K41-H41 -> 0 | M41: =IFERROR(IF(ISERROR(K41/F41),0,(K41/F41))-IF((K41/F41)<0,0,1),0) -> 0 | O41: Daily use | P41: =F12+F24 -> 0 | Q41: =Q39+Q40 -> 0 | R41: =IF(P41>P39,((P39/P41*R39)+(P40/P41*R40)),R39) -> 0
B42: Q4 | E42: =((175*((100+'General information'!$H$20+'General information'!$H$21+'General information'!$H$22)-'General information'!$D$20)/100)*(D42+C42))/100 -> 0 | F42: =((C42*'General information'!$E$31)*0.8+(C42*'General information'!$E$32)*0.2) -> 0 | G42: =D42*'General information'!$C$2 -> 0 | H42: =F42+G42 -> 0 | I42: =IF(ISERROR(H42/E42),0,H42/E42) -> 0 | J42: =IF(E42=0,0,((Weapons!$P$28*'General information'!$H$32%)*E42)) -> 0 | K42: =E42*(Weapons!$P$28-$Q$28) -> 0 | L42: =K42-H42 -> 0 | M42: =IFERROR(IF(ISERROR(K42/F42),0,(K42/F42))-IF((K42/F42)<0,0,1),0) -> 0 | O42: Surplus / Shortage | P42: =P39-P41 -> 0
B43: Q5 | E43: =((250*((100+'General information'!$H$20+'General information'!$H$21+'General information'!$H$22)-'General information'!$D$20)/100)*(D43+C43))/100 -> 0 | F43: =((C43*'General information'!$E$31)*0.8+(C43*'General information'!$E$32)*0.2) -> 0 | G43: =D43*'General information'!$C$2 -> 0 | H43: =F43+G43 -> 0 | I43: =IF(ISERROR(H43/E43),0,H43/E43) -> 0 | J43: =IF(E43=0,0,((Weapons!$P$28*'General information'!$H$32%)*E43)) -> 0 | K43: =E43*(Weapons!$P$28-$Q$28) -> 0 | L43: =K43-H43 -> 0 | M43: =IFERROR(IF(ISERROR(K43/H43),0,(K43/H43))-IF((K43/H43)<0,0,1),0) -> 0
...

Sheet Airplanes
B2: Holding 1
B3: Airplanes | C3: Employees | D3: Production | E3: Raw/Day | F3: Total Salaries | G3: Raw Material Cost | H3: Total Cost - Without Taxes | I3: Unit Cost - Without Taxes | J3: Unit Cost - With Taxes | K3: Revenue | L3: Profit/Loss | M3: % Profit/Loss Per Airplane
B4: Quality
B5: Q1 | D5: =(5*((100+'General information'!$O$7+'General information'!$O$8+'General information'!$O$9)-'General information'!K8)/100)*C5 -> 0 | E5: =(D5*20)/100 -> 0 | F5: =C5*'General information'!$C$2 -> 0 | G5: =E5*Airplanes!$M$24 -> 0 | H5: =F5+G5 -> 0 | I5: =IFERROR((H5)/D5,0) -> 0 | J5: =IF(D5=0,0,I5+$N$25) -> 0 | K5: =($M$25-$N$25)*D5 -> 0 | L5: =K5-H5 -> 0 | M5: =IFERROR((IF(ISERROR(($M$25-$N$25)/I5),0,(($M$25-$N$25)/I5))-IF((($M$25-$N$25)/I5)<0,0,1)),0) -> 0
B6: Q2 | D6: =(5*((100+'General information'!$O$7+'General information'!$O$8+'General information'!$O$9)-'General information'!K9)/100)*C6 -> 0 | E6: =(D6*40)/100 -> 0 | F6: =C6*'General information'!$C$2 -> 0 | G6: =E6*Airplanes!$M$24 -> 0 | H6: =F6+G6 -> 0 | I6: =IFERROR((H6)/D6,0) -> 0 | J6: =IF(D6=0,0,I6+$N$26) -> 0 | K6: =($M$26-$N$26)*D6 -> 0 | L6: =K6-H6 -> 0 | M6: =IFERROR((IF(ISERROR(($M$26-$N$26)/I6),0,(($M$26-$N$26)/I6))-IF((($M$26-$N$26)/I6)<0,0,1)),0) -> 0
B7: Q3 | D7: =(5*((100+'General information'!$O$7+'General information'!$O$8+'General information'!$O$9)-'General information'!K10)/100)*C7 -> 0 | E7: =(D7*60)/100 -> 0 | F7: =C7*'General information'!$C$2 -> 0 | G7: =E7*Airplanes!$M$24 -> 0 | H7: =F7+G7 -> 0 | I7: =IFERROR((H7)/D7,0) -> 0 | J7: =IF(D7=0,0,I7+$N$27) -> 0 | K7: =($M$27-$N$27)*D7 -> 0 | L7: =K7-H7 -> 0 | M7: =IFERROR((IF(ISERROR(($M$27-$N$27)/I7),0,(($M$27-$N$27)/I7))-IF((($M$27-$N$27)/I7)<0,0,1)),0) -> 0
B8: Q4 | D8: =(5*((100+'General information'!$O$7+'General information'!$O$8+'General information'!$O$9)-'General information'!K11)/100)*C8 -> 0 | E8: =(D8*80)/100 -> 0 | F8: =C8*'General information'!$C$2 -> 0 | G8: =E8*Airplanes!$M$24 -> 0 | H8: =F8+G8 -> 0 | I8: =IFERROR((H8)/D8,0) -> 0 | J8: =IF(D8=0,0,I8+$N$28) -> 0 | K8: =($M$28-$N$28)*D8 -> 0 | L8: =K8-H8 -> 0 | M8: =IFERROR((IF(ISERROR(($M$28-$N$28)/I8),0,(($M$28-$N$28)/I8))-IF((($M$28-$N$28)/I8)<0,0,1)),0) -> 0
B9: Q5 | D9: =(5*((100+'General information'!$O$7+'General information'!$O$8+'General information'!$O$9)-'General information'!K12)/100)*C9 -> 0 | E9: =(D9*100)/100 -> 0 | F9: =C9*'General information'!$C$2 -> 0 | G9: =E9*Airplanes!$M$24 -> 0 | H9: =F9+G9 -> 0 | I9: =IFERROR((H9)/D9,0) -> 0 | J9: =IF(D9=0,0,I9+$N$29) -> 0 | K9: =($M$29-$N$29)*D9 -> 0 | L9: =K9-H9 -> 0 | M9: =IFERROR((IF(ISERROR(($M$29-$N$29)/I9),0,(($M$29-$N$29)/I9))-IF((($M$29-$N$29)/I9)<0,0,1)),0) -> 0
B10: Total | E10: =SUM(E5:E9) -> 0 | F10: =SUM(F5:F9) -> 0 | G10: =SUM(G5:G9) -> 0 | H10: =SUM(H5:H9) -> 0 | K10: =SUM(K5:K9) -> 0 | L10: =SUM(L5:L9) -> 0
B12: Holding 2
B13: Airplanes | C13: Employees | D13: Production | E13: Raw/Day | F13: Total Salaries | G13: Raw Material Cost | H13: Total Cost - Without Taxes | I13: Unit Cost - Without Taxes | J13: Unit Cost - With Taxes | K13: Revenue | L13: Profit/Loss | M13: % Profit/Loss Per Airplane
B14: Quality
B15: Q1 | D15: =(5*((100+'General information'!$P$7+'General information'!$P$8+'General information'!$P$9)-'General information'!L8)/100)*C15 -> 0 | E15: =(D15*20)/100 -> 0 | F15: =C15*'General information'!$C$2 -> 0 | G15: =E15*Airplanes!$M$24 -> 0 | H15: =F15+G15 -> 0 | I15: =IFERROR((H15)/D15,0) -> 0 | J15: =IF(D15=0,0,I15+$N$25) -> 0 | K15: =($M$25-$N$25)*D15 -> 0 | L15: =K15-H15 -> 0 | M15: =IFERROR((IF(ISERROR(($M$25-$N$25)/I15),0,(($M$25-$N$25)/I15))-IF((($M$25-$N$25)/I15)<0,0,1)),0) -> 0
B16: Q2 | D16: =(5*((100+'General information'!$P$7+'General information'!$P$8+'General information'!$P$9)-'General information'!L9)/100)*C16 -> 0 | E16: =(D16*40)/100 -> 0 | F16: =C16*'General information'!$C$2 -> 0 | G16: =E16*Airplanes!$M$24 -> 0 | H16: =F16+G16 -> 0 | I16: =IFERROR((H16)/D16,0) -> 0 | J16: =IF(D16=0,0,I16+$N$26) -> 0 | K16: =($M$26-$N$26)*D16 -> 0 | L16: =K16-H16 -> 0 | M16: =IFERROR((IF(ISERROR(($M$26-$N$26)/I16),0,(($M$26-$N$26)/I16))-IF((($M$26-$N$26)/I16)<0,0,1)),0) -> 0
B17: Q3 | D17: =(5*((100+'General information'!$P$7+'General information'!$P$8+'General information'!$P$9)-'General information'!L10)/100)*C17 -> 0 | E17: =(D17*60)/100 -> 0 | F17: =C17*'General information'!$C$2 -> 0 | G17: =E17*Airplanes!$M$24 -> 0 | H17: =F17+G17 -> 0 | I17: =IFERROR((H17)/D17,0) -> 0 | J17: =IF(D17=0,0,I17+$N$27) -> 0 | K17: =($M$27-$N$27)*D17 -> 0 | L17: =K17-H17 -> 0 | M17: =IFERROR((IF(ISERROR(($M$27-$N$27)/I17),0,(($M$27-$N$27)/I17))-IF((($M$27-$N$27)/I17)<0,0,1)),0) -> 0
B18: Q4 | D18: =(5*((100+'General information'!$P$7+'General information'!$P$8+'General information'!$P$9)-'General information'!L11)/100)*C18 -> 0 | E18: =(D18*80)/100 -> 0 | F18: =C18*'General information'!$C$2 -> 0 | G18: =E18*Airplanes!$M$24 -> 0 | H18: =F18+G18 -> 0 | I18: =IFERROR((H18)/D18,0) -> 0 | J18: =IF(D18=0,0,I18+$N$28) -> 0 | K18: =($M$28-$N$28)*D18 -> 0 | L18: =K18-H18 -> 0 | M18: =IFERROR((IF(ISERROR(($M$28-$N$28)/I18),0,(($M$28-$N$28)/I18))-IF((($M$28-$N$28)/I18)<0,0,1)),0) -> 0
B19: Q5 | D19: =(5*((100+'General information'!$P$7+'General information'!$P$8+'General information'!$P$9)-'General information'!L12)/100)*C19 -> 0 | E19: =(D19*100)/100 -> 0 | F19: =C19*'General information'!$C$2 -> 0 | G19: =E19*Airplanes!$M$24 -> 0 | H19: =F19+G19 -> 0 | I19: =IFERROR((H19)/D19,0) -> 0 | J19: =IF(D19=0,0,I19+$N$29) -> 0 | K19: =($M$29-$N$29)*D19 -> 0 | L19: =K19-H19 -> 0 | M19: =IFERROR((IF(ISERROR(($M$29-$N$29)/I19),0,(($M$29-$N$29)/I19))-IF((($M$29-$N$29)/I19)<0,0,1)),0) -> 0
B20: Total | E20: =SUM(E15:E19) -> 0 | F20: =SUM(F15:F19) -> 0 | G20: =SUM(G15:G19) -> 0 | H20: =SUM(H15:H19) -> 0 | K20: =SUM(K15:K19) -> 0 | L20: =SUM(L15:L19) -> 0
B22: Holding 1 | L22: Stock - Airplanes
B23: Raw Material | C23: Employees | D23: Production | E23: Total Salaries | F23: Unit Cost - Without Taxes | G23: Revenue | H23: Export Tax | I23: Profit/Loss | J23: % Profit/Loss | L23: Quality | M23: Price | N23: Tax | O23: Amount | P23: Gross Value | Q23: Total Tax | R23: Net Total
B24: Quality | L24: Raw | N24: =M24*'General information'!$P$14% -> 0 | P24: =M24*O24 -> 0 | Q24: =O24*N24 -> 0 | R24: =P24-Q24 -> 0
B25: Q1 | D25: =((35*((100+'General information'!$O$7+'General information'!$O$8+'General information'!$O$9)-'General information'!$K$7)/100)*C25)/100 -> 0 | E25: =C25*'General information'!$C$2 -> 0 | F25: =IF(ISERROR(E25/D25),0,E25/D25) -> 0 | G25: =D25*(Airplanes!$M$24-$N$24) -> 0 | H25: =IF(D25=0,0,(($M$24*'General information'!$P$14%)*D25)) -> 0 | I25: =G25-E25 -> 0 | J25: =IFERROR(IF(ISERROR(G25/((E25+H25))),0,(G25/(E25+H25)))-IF((G25/(E25+H25))<0,0,1),0) -> 0 | L25: Q1 | N25: =(M25*'General information'!$P$13%)+(M25*'General information'!$P$14%) -> 0 | P25: =M25*O25 -> 0 | Q25: =((M25*'General information'!$P$13%)+(M25*'General information'!V34%))*O25 -> 0 | R25: =P25-Q25 -> 0
B26: Q2 | D26: =((70*((100+'General information'!$O$7+'General information'!$O$8+'General information'!$O$9)-'General information'!$K$7)/100)*C26)/100 -> 0 | E26: =C26*'General information'!$C$2 -> 0 | F26: =IF(ISERROR(E26/D26),0,E26/D26) -> 0 | G26: =D26*(Airplanes!$M$24-$N$24) -> 0 | H26: =IF(D26=0,0,(($M$24*'General information'!$P$14%)*D26)) -> 0 | I26: =G26-E26 -> 0 | J26: =IFERROR(IF(ISERROR(G26/((E26+H26))),0,(G26/(E26+H26)))-IF((G26/(E26+H26))<0,0,1),0) -> 0 | L26: Q2 | N26: =(M26*'General information'!$P$13%)+(M26*'General information'!$P$14%) -> 0 | P26: =M26*O26 -> 0 | Q26: =((M26*'General information'!$P$13%)+(M26*'General information'!V35%))*O26 -> 0 | R26: =P26-Q26 -> 0
B27: Q3 | D27: =((125*((100+'General information'!$O$7+'General information'!$O$8+'General information'!$O$9)-'General information'!$K$7)/100)*C27)/100 -> 0 | E27: =C27*'General information'!$C$2 -> 0 | F27: =IF(ISERROR(E27/D27),0,E27/D27) -> 0 | G27: =D27*(Airplanes!$M$24-$N$24) -> 0 | H27: =IF(D27=0,0,(($M$24*'General information'!$P$14%)*D27)) -> 0 | I27: =G27-E27 -> 0 | J27: =IFERROR(IF(ISERROR(G27/((E27+H27))),0,(G27/(E27+H27)))-IF((G27/(E27+H27))<0,0,1),0) -> 0 | L27: Q3 | N27: =(M27*'General information'!$P$13%)+(M27*'General information'!$P$14%) -> 0 | P27: =M27*O27 -> 0 | Q27: =((M27*'General information'!$P$13%)+(M27*'General information'!V36%))*O27 -> 0 | R27: =P27-Q27 -> 0
B28: Q4 | D28: =((175*((100+'General information'!$O$7+'General information'!$O$8+'General information'!$O$9)-'General information'!$K$7)/100)*C28)/100 -> 0 | E28: =C28*'General information'!$C$2 -> 0 | F28: =IF(ISERROR(E28/D28),0,E28/D28) -> 0 | G28: =D28*(Airplanes!$M$24-$N$24) -> 0 | H28: =IF(D28=0,0,(($M$24*'General information'!$P$14%)*D28)) -> 0 | I28: =G28-E28 -> 0 | J28: =IFERROR(IF(ISERROR(G28/((E28+H28))),0,(G28/(E28+H28)))-IF((G28/(E28+H28))<0,0,1),0) -> 0 | L28: Q4 | N28: =(M28*'General information'!$P$13%)+(M28*'General information'!$P$14%) -> 0 | P28: =M28*O28 -> 0 | Q28: =((M28*'General information'!$P$13%)+(M28*'General information'!V37%))*O28 -> 0 | R28: =P28-Q28 -> 0
B29: Q5 | D29: =((250*((100+'General information'!$O$7+'General information'!$O$8+'General information'!$O$9)-'General information'!$K$7)/100)*C29)/100 -> 0 | E29: =C29*'General information'!$C$2 -> 0 | F29: =IF(ISERROR(E29/D29),0,E29/D29) -> 0 | G29: =D29*(Airplanes!$M$24-$N$24) -> 0 | H29: =IF(D29=0,0,(($M$24*'General information'!$P$14%)*D29)) -> 0 | I29: =G29-E29 -> 0 | J29: =IFERROR(IF(ISERROR(G29/((E29+H29))),0,(G29/(E29+H29)))-IF((G29/(E29+H29))<0,0,1),0) -> 0 | L29: Q5 | N29: =(M29*'General information'!$P$13%)+(M29*'General information'!$P$14%) -> 0 | P29: =M29*O29 -> 0 | Q29: =((M29*'General information'!$P$13%)+(M29*'General information'!V38%))*O29 -> 0 | R29: =P29-Q29 -> 0
B30: Total | D30: =SUM(D25:D29) -> 0 | E30: =SUM(E25:E29) -> 0 | F30: =IF(ISERROR(E30/D30),0,E30/D30) -> 0 | G30: =SUM(G25:G29) -> 0 | H30: =SUM(H25:H29) -> 0 | I30: =SUM(I25:I29) -> 0 | N30: =SUM(N24:N29) -> 0 | P30: =SUM(P24:P29) -> 0 | Q30: =SUM(Q24:Q29) -> 0 | R30: =SUM(R24:R29) -> 0
B32: Holding 2 | M32: Raw | N32: Cost | O32: Average Cost
B33: Raw Material | C33: Employees | D33: Production | E33: Total Salaries | F33: Unit Cost - Without Taxes | G33: Revenue | H33: Export Tax | I33: Profit/Loss | J33: % Profit/Loss | L33: Production | M33: =D30+D40 -> 0 | N33: =M33*((F30+F40)/2) -> 0 | O33: =IF(ISERROR(N33/M33),0,N33/M33) -> 0
B34: Quality | L34: Purchase | M34: =IF(M35>M33,M35-M33,0) -> 0 | N34: =M24*M34 -> 0 | O34: =IF(ISERROR(N34/M34),0,N34/M34) -> 0
B35: Q1 | D35: =((35*((100+'General information'!$P$7+'General information'!$P$8+'General information'!$P$9)-'General information'!$L$7)/100)*C35)/100 -> 0 | E35: =C35*'General information'!$C$2 -> 0 | F35: =IF(ISERROR(E35/D35),0,E35/D35) -> 0 | G35: =D35*Airplanes!$M$24 -> 0 | H35: =IF(D35=0,0,(($M$24*'General information'!$P$14%)*D35)) -> 0 | I35: =G35-(E35+H35) -> 0 | J35: =IFERROR(IF(ISERROR(G35/((E35+H35))),0,(G35/(E35+H35)))-IF((G35/(E35+H35))<0,0,1),0) -> 0 | L35: Daily use | M35: =E10+E20 -> 0 | N35: =N33+N34 -> 0 | O35: =IF(M35>M33,((M33/M35*O33)+(M34/M35*O34)),O33) -> 0
B36: Q2 | D36: =((70*((100+'General information'!$P$7+'General information'!$P$8+'General information'!$P$9)-'General information'!$L$7)/100)*C36)/100 -> 0 | E36: =C36*'General information'!$C$2 -> 0 | F36: =IF(ISERROR(E36/D36),0,E36/D36) -> 0 | G36: =D36*Airplanes!$M$24 -> 0 | H36: =IF(D36=0,0,(($M$24*'General information'!$P$14%)*D36)) -> 0 | I36: =G36-(E36+H36) -> 0 | J36: =IFERROR(IF(ISERROR(G36/((E36+H36))),0,(G36/(E36+H36)))-IF((G36/(E36+H36))<0,0,1),0) -> 0 | L36: Surplus / Shortage | M36: =M33-M35 -> 0
B37: Q3 | D37: =((125*((100+'General information'!$P$7+'General information'!$P$8+'General information'!$P$9)-'General information'!$L$7)/100)*C37)/100 -> 0 | E37: =C37*'General information'!$C$2 -> 0 | F37: =IF(ISERROR(E37/D37),0,E37/D37) -> 0 | G37: =D37*Airplanes!$M$24 -> 0 | H37: =IF(D37=0,0,(($M$24*'General information'!$P$14%)*D37)) -> 0 | I37: =G37-(E37+H37) -> 0 | J37: =IFERROR(IF(ISERROR(G37/((E37+H37))),0,(G37/(E37+H37)))-IF((G37/(E37+H37))<0,0,1),0) -> 0
B38: Q4 | D38: =((175*((100+'General information'!$P$7+'General information'!$P$8+'General information'!$P$9)-'General information'!$L$7)/100)*C38)/100 -> 0 | E38: =C38*'General information'!$C$2 -> 0 | F38: =IF(ISERROR(E38/D38),0,E38/D38) -> 0 | G38: =D38*Airplanes!$M$24 -> 0 | H38: =IF(D38=0,0,(($M$24*'General information'!$P$14%)*D38)) -> 0 | I38: =G38-(E38+H38) -> 0 | J38: =IFERROR(IF(ISERROR(G38/((E38+H38))),0,(G38/(E38+H38)))-IF((G38/(E38+H38))<0,0,1),0) -> 0
B39: Q5 | D39: =((250*((100+'General information'!$P$7+'General information'!$P$8+'General information'!$P$9)-'General information'!$L$7)/100)*C39)/100 -> 0 | E39: =C39*'General information'!$C$2 -> 0 | F39: =IF(ISERROR(E39/D39),0,E39/D39) -> 0 | G39: =D39*Airplanes!$M$24 -> 0 | H39: =IF(D39=0,0,(($M$24*'General information'!$P$14%)*D39)) -> 0 | I39: =G39-(E39+H39) -> 0 | J39: =IFERROR(IF(ISERROR(G39/((E39+H39))),0,(G39/(E39+H39)))-IF((G39/(E39+H39))<0,0,1),0) -> 0
B40: Total | D40: =SUM(D35:D39) -> 0 | E40: =SUM(E35:E39) -> 0 | F40: =IF(ISERROR(E40/D40),0,E40/D40) -> 0 | G40: =SUM(G35:G39) -> 0 | H40: =SUM(H35:H39) -> 0 | I40: =SUM(I35:I39) -> 0

Sheet Food
B2: Holding 1
B3: Food | C3: Manager | D3: Employees | E3: Production | F3: Raw/Day | G3: Total Salaries | H3: Manager Tax | I3: Raw Material Cost | J3: Total Cost - Without Taxes | K3: Unit Cost - Without Taxes | L3: Unit Cost - With Taxes | M3: Revenue | N3: Profit/Loss | O3: % Profit/Loss Per Food
B4: Quality
B5: Q1 | E5: =(D5+C5)*(100*((100+'General information'!$O$20+'General information'!$O$21+'General information'!O22)-'General information'!K21)/100) -> 0 | F5: =(E5*1)/100 -> 0 | G5: =D5*'General information'!$C$2 -> 0 | H5: =(('General information'!$M$30*C5)*0.8+('General information'!$M$32*C5)*0.2) -> 0 | I5: =F5*$P$28 -> 0 | J5: =G5+I5+H5 -> 0 | K5: =IF(ISERROR((J5/E5)),0,((J5/E5))) -> 0 | L5: =IF(E5=0,0,K5+$Q$29) -> 0 | M5: =(E5*($P$29-$Q$29)) -> 0 | N5: =M5-J5 -> 0 | O5: =IF(E5=0,0,(IF((ISERROR((($P$29-$Q$29)/K5))),0,(($P$29-$Q$29))/K5)-1)) -> 0
B6: Q2 | E6: =(D6+C6)*(100*((100+'General information'!$O$20+'General information'!$O$21+'General information'!O23)-'General information'!K22)/100) -> 0 | F6: =(E6*2)/100 -> 0 | G6: =D6*'General information'!$C$2 -> 0 | H6: =(('General information'!$M$30*C6)*0.8+('General information'!$M$32*C6)*0.2) -> 0 | I6: =F6*$P$28 -> 0 | J6: =G6+I6+H6 -> 0 | K6: =IF(ISERROR((J6/E6)),0,((J6/E6))) -> 0 | L6: =IF(E6=0,0,K6+$Q$30) -> 0 | M6: =(E6*($P$30-$Q$30)) -> 0 | N6: =M6-J6 -> 0 | O6: =IF(E6=0,0,(IF((ISERROR((($P$30-$Q$30)/K6))),0,(($P$30-$Q$30))/K6)-1)) -> 0
B7: Q3 | E7: =(D7+C7)*(100*((100+'General information'!$O$20+'General information'!$O$21+'General information'!O24)-'General information'!K23)/100) -> 0 | F7: =(E7*3)/100 -> 0 | G7: =D7*'General information'!$C$2 -> 0 | H7: =(('General information'!$M$30*C7)*0.8+('General information'!$M$32*C7)*0.2) -> 0 | I7: =F7*$P$28 -> 0 | J7: =G7+I7+H7 -> 0 | K7: =IF(ISERROR((J7/E7)),0,((J7/E7))) -> 0 | L7: =IF(E7=0,0,K7+$Q$31) -> 0 | M7: =(E7*($P$31-$Q$31)) -> 0 | N7: =M7-J7 -> 0 | O7: =IF(E7=0,0,(IF((ISERROR((($P$31-$Q$31)/K7))),0,(($P$31-$Q$31))/K7)-1)) -> 0
B8: Q4 | E8: =(D8+C8)*(100*((100+'General information'!$O$20+'General information'!$O$21+'General information'!O25)-'General information'!K24)/100) -> 0 | F8: =(E8*4)/100 -> 0 | G8: =D8*'General information'!$C$2 -> 0 | H8: =(('General information'!$M$30*C8)*0.8+('General information'!$M$32*C8)*0.2) -> 0 | I8: =F8*$P$28 -> 0 | J8: =G8+I8+H8 -> 0 | K8: =IF(ISERROR((J8/E8)),0,((J8/E8))) -> 0 | L8: =IF(E8=0,0,K8+$Q$32) -> 0 | M8: =(E8*($P$32-$Q$32)) -> 0 | N8: =M8-J8 -> 0 | O8: =IF(E8=0,0,(IF((ISERROR((($P$32-$Q$32)/K8))),0,(($P$32-$Q$32))/K8)-1)) -> 0
B9: Q5 | E9: =(D9+C9)*(100*((100+'General information'!$O$20+'General information'!$O$21+'General information'!O26)-'General information'!K25)/100) -> 0 | F9: =(E9*5)/100 -> 0 | G9: =D9*'General information'!$C$2 -> 0 | H9: =(('General information'!$M$30*C9)*0.8+('General information'!$M$32*C9)*0.2) -> 0 | I9: =F9*$P$28 -> 0 | J9: =G9+I9+H9 -> 0 | K9: =IF(ISERROR((J9/E9)),0,((J9/E9))) -> 0 | L9: =IF(E9=0,0,K9+$Q$33) -> 0 | M9: =(E9*($P$33-$Q$33)) -> 0 | N9: =M9-J9 -> 0 | O9: =IF(E9=0,0,(IF((ISERROR((($P$33-$Q$33)/K9))),0,(($P$33-$Q$33))/K9)-1)) -> 0
B10: Q6 | E10: =(D10+C10)*(100*((100+'General information'!$O$20+'General information'!$O$21+'General information'!O27)-'General information'!K26)/100) -> 0 | F10: =(E10*6)/100 -> 0 | G10: =D10*'General information'!$C$2 -> 0 | H10: =(('General information'!$M$30*C10)*0.8+('General information'!$M$32*C10)*0.2) -> 0 | I10: =F10*$P$28 -> 0 | J10: =G10+I10+H10 -> 0 | K10: =IF(ISERROR((J10/E10)),0,((J10/E10))) -> 0 | L10: =IF(E10=0,0,K10+$Q$34) -> 0 | M10: =(E10*($P$34-$Q$34)) -> 0 | N10: =M10-J10 -> 0 | O10: =IF(E10=0,0,(IF((ISERROR((($P$34-$Q$34)/K10))),0,(($P$34-$Q$34))/K10)-1)) -> 0
B11: Q7 | E11: =(D11+C11)*(100*((100+'General information'!$O$20+'General information'!$O$21+'General information'!O28)-'General information'!K27)/100) -> 0 | F11: =(E11*20)/100 -> 0 | G11: =D11*'General information'!$C$2 -> 0 | H11: =(('General information'!$M$30*C11)*0.8+('General information'!$M$32*C11)*0.2) -> 0 | I11: =F11*$P$28 -> 0 | J11: =G11+I11+H11 -> 0 | K11: =IF(ISERROR((J11/E11)),0,((J11/E11))) -> 0 | L11: =IF(E11=0,0,K11+$Q$35) -> 0 | M11: =(E11*($P$35-$Q$35)) -> 0 | N11: =M11-J11 -> 0 | O11: =IF(E11=0,0,(IF((ISERROR((($P$35-$Q$35)/K11))),0,(($P$35-$Q$35))/K11)-1)) -> 0
B12: Total | F12: =SUM(F5:F11) -> 0 | G12: =SUM(G5:G11) -> 0 | H12: =SUM(H5:H11) -> 0 | I12: =SUM(I5:I11) -> 0 | J12: =SUM(J5:J11) -> 0 | M12: =SUM(M5:M11) -> 0 | N12: =SUM(N5:N11) -> 0
B14: Holding 2
B15: Food | C15: Manager | D15: Employees | E15: Production | F15: Raw/Day | G15: Total Salaries | H15: Manager Tax | I15: Raw Material Cost | J15: Total Cost - Without Taxes | K15: Unit Cost - Without Taxes | L15: Unit Cost - With Taxes | M15: Revenue | N15: Profit/Loss | O15: % Profit/Loss Per Food
B16: Quality
B17: Q1 | E17: =(D17+C17)*(100*((100+'General information'!$P$20+'General information'!$P$21+'General information'!$P$22)-'General information'!L21)/100) -> 0 | F17: =(E17*1)/100 -> 0 | G17: =D17*'General information'!$C$2 -> 0 | H17: =(('General information'!$M$31*C17)*0.8+('General information'!$M$32*C17)*0.2) -> 0 | I17: =F17*$P$28 -> 0 | J17: =G17+I17+H17 -> 0 | K17: =IF(ISERROR((J17/E17)),0,((J17/E17))) -> 0 | L17: =IF(E17=0,0,K17+$Q$29) -> 0 | M17: =(E17*($P$29-$Q$29)) -> 0 | N17: =M17-J17 -> 0 | O17: =IF(E17=0,0,(IF((ISERROR((($P$29-$Q$29)/K17))),0,(($P$29-$Q$29))/K17)-1)) -> 0
B18: Q2 | E18: =(D18+C18)*(100*((100+'General information'!$P$20+'General information'!$P$21+'General information'!$P$22)-'General information'!L22)/100) -> 0 | F18: =(E18*2)/100 -> 0 | G18: =D18*'General information'!$C$2 -> 0 | H18: =(('General information'!$M$31*C18)*0.8+('General information'!$M$32*C18)*0.2) -> 0 | I18: =F18*$P$28 -> 0 | J18: =G18+I18+H18 -> 0 | K18: =IF(ISERROR((J18/E18)),0,((J18/E18))) -> 0 | L18: =IF(E18=0,0,K18+$Q$30) -> 0 | M18: =(E18*($P$30-$Q$30)) -> 0 | N18: =M18-J18 -> 0 | O18: =IF(E18=0,0,(IF((ISERROR((($P$30-$Q$30)/K18))),0,(($P$30-$Q$30))/K18)-1)) -> 0
B19: Q3 | E19: =(D19+C19)*(100*((100+'General information'!$P$20+'General information'!$P$21+'General information'!$P$22)-'General information'!L23)/100) -> 0 | F19: =(E19*3)/100 -> 0 | G19: =D19*'General information'!$C$2 -> 0 | H19: =(('General information'!$M$31*C19)*0.8+('General information'!$M$32*C19)*0.2) -> 0 | I19: =F19*$P$28 -> 0 | J19: =G19+I19+H19 -> 0 | K19: =IF(ISERROR((J19/E19)),0,((J19/E19))) -> 0 | L19: =IF(E19=0,0,K19+$Q$31) -> 0 | M19: =(E19*($P$31-$Q$31)) -> 0 | N19: =M19-J19 -> 0 | O19: =IF(E19=0,0,(IF((ISERROR((($P$31-$Q$31)/K19))),0,(($P$31-$Q$31))/K19)-1)) -> 0
B20: Q4 | E20: =(D20+C20)*(100*((100+'General information'!$P$20+'General information'!$P$21+'General information'!$P$22)-'General information'!L24)/100) -> 0 | F20: =(E20*4)/100 -> 0 | G20: =D20*'General information'!$C$2 -> 0 | H20: =(('General information'!$M$31*C20)*0.8+('General information'!$M$32*C20)*0.2) -> 0 | I20: =F20*$P$28 -> 0 | J20: =G20+I20+H20 -> 0 | K20: =IF(ISERROR((J20/E20)),0,((J20/E20))) -> 0 | L20: =IF(E20=0,0,K20+$Q$32) -> 0 | M20: =(E20*($P$32-$Q$32)) -> 0 | N20: =M20-J20 -> 0 | O20: =IF(E20=0,0,(IF((ISERROR((($P$32-$Q$32)/K20))),0,(($P$32-$Q$32))/K20)-1)) -> 0
B21: Q5 | E21: =(D21+C21)*(100*((100+'General information'!$P$20+'General information'!$P$21+'General information'!$P$22)-'General information'!L25)/100) -> 0 | F21: =(E21*5)/100 -> 0 | G21: =D21*'General information'!$C$2 -> 0 | H21: =(('General information'!$M$31*C21)*0.8+('General information'!$M$32*C21)*0.2) -> 0 | I21: =F21*$P$28 -> 0 | J21: =G21+I21+H21 -> 0 | K21: =IF(ISERROR((J21/E21)),0,((J21/E21))) -> 0 | L21: =IF(E21=0,0,K21+$Q$33) -> 0 | M21: =(E21*($P$33-$Q$33)) -> 0 | N21: =M21-J21 -> 0 | O21: =IF(E21=0,0,(IF((ISERROR((($P$33-$Q$33)/K21))),0,(($P$33-$Q$33))/K21)-1)) -> 0
B22: Q6 | E22: =(D22+C22)*(100*((100+'General information'!$P$20+'General information'!$P$21+'General information'!$P$22)-'General information'!L26)/100) -> 0 | F22: =(E22*6)/100 -> 0 | G22: =D22*'General information'!$C$2 -> 0 | H22: =(('General information'!$M$31*C22)*0.8+('General information'!$M$32*C22)*0.2) -> 0 | I22: =F22*$P$28 -> 0 | J22: =G22+I22+H22 -> 0 | K22: =IF(ISERROR((J22/E22)),0,((J22/E22))) -> 0 | L22: =IF(E22=0,0,K22+$Q$34) -> 0 | M22: =(E22*($P$34-$Q$34)) -> 0 | N22: =M22-J22 -> 0 | O22: =IF(E22=0,0,(IF((ISERROR((($P$34-$Q$34)/K22))),0,(($P$34-$Q$34))/K22)-1)) -> 0
